BEGIN:VCALENDAR
VERSION:2.0
PRODID:-//ZanArt - ECPv6.15.17.1//NONSGML v1.0//EN
CALSCALE:GREGORIAN
METHOD:PUBLISH
X-ORIGINAL-URL:https://zanartclasses.com
X-WR-CALDESC:Events for ZanArt
REFRESH-INTERVAL;VALUE=DURATION:PT1H
X-Robots-Tag:noindex
X-PUBLISHED-TTL:PT1H
BEGIN:VTIMEZONE
TZID:America/Chicago
BEGIN:DAYLIGHT
TZOFFSETFROM:-0600
TZOFFSETTO:-0500
TZNAME:CDT
DTSTART:20160313T080000
END:DAYLIGHT
BEGIN:STANDARD
TZOFFSETFROM:-0500
TZOFFSETTO:-0600
TZNAME:CST
DTSTART:20161106T070000
END:STANDARD
BEGIN:DAYLIGHT
TZOFFSETFROM:-0600
TZOFFSETTO:-0500
TZNAME:CDT
DTSTART:20170312T080000
END:DAYLIGHT
BEGIN:STANDARD
TZOFFSETFROM:-0500
TZOFFSETTO:-0600
TZNAME:CST
DTSTART:20171105T070000
END:STANDARD
BEGIN:DAYLIGHT
TZOFFSETFROM:-0600
TZOFFSETTO:-0500
TZNAME:CDT
DTSTART:20180311T080000
END:DAYLIGHT
BEGIN:STANDARD
TZOFFSETFROM:-0500
TZOFFSETTO:-0600
TZNAME:CST
DTSTART:20181104T070000
END:STANDARD
END:VTIMEZONE
BEGIN:VEVENT
DTSTART;TZID=America/Chicago:20170930T130000
DTEND;TZID=America/Chicago:20170930T150000
DTSTAMP:20260424T195014
CREATED:20170913T043944Z
LAST-MODIFIED:20170918T003533Z
UID:1429-1506776400-1506783600@zanartclasses.com
SUMMARY:Flow Painting (flow supplies included)
DESCRIPTION:Pouring\, puddling\, dripping\, swiping… these classes\, will explore the exciting possibilities in the technique often called called Pour Acrylics! \nThese paintings are gorgeous as is or as the background for your next project. Today we will learn the basics of the ‘dirty pour‘. \nBe prepared to bring your painting home quite wet – it will continue to develop for at least 24hrs..
URL:https://zanartclasses.com/calendar/flow-painting-supplies-included-2/
LOCATION:Hobby Lobby Lake Worth\, 6580 Lake Worth Blvd\, Lake Worth\, TX\, 76135\, United States
CATEGORIES:Acrylic Painting,Flow,Flow Painting
ATTACH;FMTTYPE=image/jpeg:https://zanartclasses.com/wp-content/uploads/2017/08/20170723_155543-1.jpg
ORGANIZER;CN="Zan Savage":MAILTO:zanart@gmail.com
END:VEVENT
BEGIN:VEVENT
DTSTART;TZID=America/Chicago:20170930T130000
DTEND;TZID=America/Chicago:20170930T150000
DTSTAMP:20260424T195014
CREATED:20170913T043745Z
LAST-MODIFIED:20170918T003510Z
UID:1428-1506776400-1506783600@zanartclasses.com
SUMMARY:Flow Painting
DESCRIPTION:Pouring\, puddling\, dripping\, swiping… these classes\, will explore the exciting possibilities in the technique often called called Pour Acrylics! \nThese paintings are gorgeous as is or as the background for your next project. Today we will learn the basics of the ‘dirty pour‘. \nBe prepared to bring your painting home quite wet – it will continue to develop for at least 24hrs.. \nNote: Add $10 to regular price and I will provide supplies for flow painting.
URL:https://zanartclasses.com/calendar/flow-painting-2/
LOCATION:Hobby Lobby Lake Worth\, 6580 Lake Worth Blvd\, Lake Worth\, TX\, 76135\, United States
CATEGORIES:Acrylic Painting,Flow,Flow Painting
ATTACH;FMTTYPE=image/jpeg:https://zanartclasses.com/wp-content/uploads/2017/08/20170723_155543-1.jpg
ORGANIZER;CN="Zan Savage":MAILTO:zanart@gmail.com
END:VEVENT
BEGIN:VEVENT
DTSTART;TZID=America/Chicago:20170930T100000
DTEND;TZID=America/Chicago:20170930T150000
DTSTAMP:20260424T195014
CREATED:20170913T044147Z
LAST-MODIFIED:20170918T003303Z
UID:1431-1506765600-1506783600@zanartclasses.com
SUMMARY:Pastel & Flow Painting (flow supplies included)
DESCRIPTION:Stay all day and discover the unique joys of this powdery medium – pastels during the first half of the day. In this class we will use soft pastels to capture this serene sunset. \nSecond half of the day\, learn the basics of the ‘dirty pour‘ in the Flow Painting Session. \nBe prepared to bring your painting home quite wet – it will continue to develop for at least 24hrs..
URL:https://zanartclasses.com/calendar/softpastel-flow-painting-flow-supplies-included/
LOCATION:Hobby Lobby Lake Worth\, 6580 Lake Worth Blvd\, Lake Worth\, TX\, 76135\, United States
CATEGORIES:Acrylic Painting,Flow,Flow Painting
ORGANIZER;CN="Zan Savage":MAILTO:zanart@gmail.com
END:VEVENT
BEGIN:VEVENT
DTSTART;TZID=America/Chicago:20170930T100000
DTEND;TZID=America/Chicago:20170930T150000
DTSTAMP:20260424T195014
CREATED:20170913T044056Z
LAST-MODIFIED:20170918T005304Z
UID:1430-1506765600-1506783600@zanartclasses.com
SUMMARY:Pastel & Flow Painting
DESCRIPTION:Stay all day and discover the unique joys of this powdery medium – pastels during the first half of the day. In this class we will use soft pastels to capture this serene sunset. \nSecond half of the day\, learn the basics of the ‘dirty pour‘ in the Flow Painting Session. \nBe prepared to bring your painting home quite wet – it will continue to develop for at least 24hrs.. \nNote: Add $10 to regular price and I will provide supplies for flow painting.
URL:https://zanartclasses.com/calendar/softpastel-flow-painting/
LOCATION:Hobby Lobby Lake Worth\, 6580 Lake Worth Blvd\, Lake Worth\, TX\, 76135\, United States
CATEGORIES:Acrylic Painting,Flow,Flow Painting
ORGANIZER;CN="Zan Savage":MAILTO:zanart@gmail.com
END:VEVENT
BEGIN:VEVENT
DTSTART;TZID=America/Chicago:20170921T130000
DTEND;TZID=America/Chicago:20170921T150000
DTSTAMP:20260424T195014
CREATED:20170913T035448Z
LAST-MODIFIED:20170918T004819Z
UID:1409-1505998800-1506006000@zanartclasses.com
SUMMARY:Flow Painting (flow supplies included)
DESCRIPTION:Pouring\, puddling\, dripping and swiping\, these classes will explore the exciting possibilities in the technique often called ‘Pour Acrylics’. \nThese paintings are gorgeous as is or as the background for your next project. Today we will strategically incorporate the black flip and drag dirty pour technique to create a nebula. \nBe prepared to bring your painting home quite wet – it will continue to develop for at least 24hrs.
URL:https://zanartclasses.com/calendar/flow-painting-supplies-included/
LOCATION:Hobby Lobby- North Richland Hills\, 6635 NE Loop 820\, North Richland Hills\, TX\, 76180\, United States
CATEGORIES:Acrylic Painting,Flow,Flow Painting
ATTACH;FMTTYPE=image/jpeg:https://zanartclasses.com/wp-content/uploads/2017/09/nebula-inspiration.jpg
ORGANIZER;CN="Zan Savage":MAILTO:zanart@gmail.com
END:VEVENT
BEGIN:VEVENT
DTSTART;TZID=America/Chicago:20170921T100000
DTEND;TZID=America/Chicago:20170921T150000
DTSTAMP:20260424T195014
CREATED:20170913T040157Z
LAST-MODIFIED:20170918T003835Z
UID:1410-1505988000-1506006000@zanartclasses.com
SUMMARY:Acrylic & Flow Painting (flow supplies included)
DESCRIPTION:Stay all day and explore the unique joys of working with acrylics – one of the most versatile and forgiving mediums of them all and the fun techniques of  ‘Pour Acrylics’.
URL:https://zanartclasses.com/calendar/acrylic-flow-painting/
LOCATION:Hobby Lobby- North Richland Hills\, 6635 NE Loop 820\, North Richland Hills\, TX\, 76180\, United States
CATEGORIES:Acrylic Painting,Flow,Flow Painting
ORGANIZER;CN="Zan Savage":MAILTO:zanart@gmail.com
END:VEVENT
BEGIN:VEVENT
DTSTART;TZID=America/Chicago:20170921T100000
DTEND;TZID=America/Chicago:20170921T150000
DTSTAMP:20260424T195014
CREATED:20170913T040153Z
LAST-MODIFIED:20170918T005144Z
UID:1411-1505988000-1506006000@zanartclasses.com
SUMMARY:Acrylic & Flow Painting
DESCRIPTION:Stay all day and explore the unique joys of working with acrylics – one of the most versatile and forgiving mediums of them all and the fun techniques of  ‘Pour Acrylics’. \nNote: Add $10 to regular price and I will provide supplies for flow painting.
URL:https://zanartclasses.com/calendar/acrylic-flow-painting-supplies-included/
LOCATION:Hobby Lobby- North Richland Hills\, 6635 NE Loop 820\, North Richland Hills\, TX\, 76180\, United States
CATEGORIES:Acrylic Painting,Flow,Flow Painting
ORGANIZER;CN="Zan Savage":MAILTO:zanart@gmail.com
END:VEVENT
BEGIN:VEVENT
DTSTART;TZID=America/Chicago:20170921T080000
DTEND;TZID=America/Chicago:20170921T080000
DTSTAMP:20260424T195014
CREATED:20170911T022818Z
LAST-MODIFIED:20170918T004904Z
UID:1400-1505980800-1505980800@zanartclasses.com
SUMMARY:Flow  Painting
DESCRIPTION:Pouring\, puddling\, dripping and swiping\, these classes will explore the exciting possibilities in the technique often called ‘Pour Acrylics’. \nThese paintings are gorgeous as is or as the background for your next project. Today we will strategically incorporate the black flip and drag dirty pour technique to create a nebula. \nBe prepared to bring your painting home quite wet – it will continue to develop for at least 24hrs. \n\nNote: Add $10 to regular price and I will provide supplies for flow painting.
URL:https://zanartclasses.com/calendar/flow-painting/
LOCATION:Hobby Lobby- North Richland Hills\, 6635 NE Loop 820\, North Richland Hills\, TX\, 76180\, United States
CATEGORIES:Acrylic Painting,Flow,Flow Painting
ATTACH;FMTTYPE=image/jpeg:https://zanartclasses.com/wp-content/uploads/2017/09/nebula-inspiration.jpg
ORGANIZER;CN="Zan Savage":MAILTO:zanart@gmail.com
END:VEVENT
END:VCALENDAR