BEGIN:VCALENDAR
VERSION:2.0
PRODID:-//ZanArt - ECPv6.15.17.1//NONSGML v1.0//EN
CALSCALE:GREGORIAN
METHOD:PUBLISH
X-ORIGINAL-URL:https://zanartclasses.com
X-WR-CALDESC:Events for ZanArt
REFRESH-INTERVAL;VALUE=DURATION:PT1H
X-Robots-Tag:noindex
X-PUBLISHED-TTL:PT1H
BEGIN:VTIMEZONE
TZID:America/Chicago
BEGIN:DAYLIGHT
TZOFFSETFROM:-0600
TZOFFSETTO:-0500
TZNAME:CDT
DTSTART:20160313T080000
END:DAYLIGHT
BEGIN:STANDARD
TZOFFSETFROM:-0500
TZOFFSETTO:-0600
TZNAME:CST
DTSTART:20161106T070000
END:STANDARD
BEGIN:DAYLIGHT
TZOFFSETFROM:-0600
TZOFFSETTO:-0500
TZNAME:CDT
DTSTART:20170312T080000
END:DAYLIGHT
BEGIN:STANDARD
TZOFFSETFROM:-0500
TZOFFSETTO:-0600
TZNAME:CST
DTSTART:20171105T070000
END:STANDARD
BEGIN:DAYLIGHT
TZOFFSETFROM:-0600
TZOFFSETTO:-0500
TZNAME:CDT
DTSTART:20180311T080000
END:DAYLIGHT
BEGIN:STANDARD
TZOFFSETFROM:-0500
TZOFFSETTO:-0600
TZNAME:CST
DTSTART:20181104T070000
END:STANDARD
BEGIN:DAYLIGHT
TZOFFSETFROM:-0600
TZOFFSETTO:-0500
TZNAME:CDT
DTSTART:20190310T080000
END:DAYLIGHT
BEGIN:STANDARD
TZOFFSETFROM:-0500
TZOFFSETTO:-0600
TZNAME:CST
DTSTART:20191103T070000
END:STANDARD
END:VTIMEZONE
BEGIN:VEVENT
DTSTART;TZID=America/Chicago:20180117T100000
DTEND;TZID=America/Chicago:20180117T140000
DTSTAMP:20260423T190325
CREATED:20171222T010844Z
LAST-MODIFIED:20171222T011043Z
UID:2180-1516183200-1516197600@zanartclasses.com
SUMMARY:Mixed Media Angel
DESCRIPTION:Expand on the inherent versatility of acrylics by adding other mediums\, specialty papers\, 3D embellishments\, etc. to create your masterpiece.\nYour imagination is your only limitation.\nToday we will create an Angel by taking inspiration from this sketch I did long ago for a sculpture
URL:https://zanartclasses.com/calendar/mixed-media-angel/
LOCATION:Hobby Lobby Southlake\, 2115 W Southlake Blvd\, Southlake\, TX\, 76092\, United States
CATEGORIES:Mixed Media
ATTACH;FMTTYPE=image/jpeg:https://zanartclasses.com/wp-content/uploads/2017/12/Angel-MM-Inspiration.jpg
ORGANIZER;CN="Zan Savage":MAILTO:zanart@gmail.com
END:VEVENT
BEGIN:VEVENT
DTSTART;TZID=America/Chicago:20180113T100000
DTEND;TZID=America/Chicago:20180113T140000
DTSTAMP:20260423T190325
CREATED:20171222T024759Z
LAST-MODIFIED:20171222T024952Z
UID:2210-1515837600-1515852000@zanartclasses.com
SUMMARY:Mixed Media Spread Your Wings
DESCRIPTION:Expand on the inherent versatility of acrylics by adding other mediums\, specialty papers\, 3D embellishments\, etc. to create your masterpiece.\nYour imagination is your only limitation.\nToday we will create this piece I call Spread Your Wings!
URL:https://zanartclasses.com/calendar/mixed-media-spread-your-wings/
LOCATION:Hobby Lobby Lake Worth\, 6580 Lake Worth Blvd\, Lake Worth\, TX\, 76135\, United States
CATEGORIES:Mixed Media
ATTACH;FMTTYPE=image/jpeg:https://zanartclasses.com/wp-content/uploads/2017/05/spread-your-wings1.jpg
ORGANIZER;CN="Zan Savage":MAILTO:zanart@gmail.com
END:VEVENT
BEGIN:VEVENT
DTSTART;TZID=America/Chicago:20171219T100000
DTEND;TZID=America/Chicago:20171219T140000
DTSTAMP:20260423T190325
CREATED:20171205T095935Z
LAST-MODIFIED:20171218T171956Z
UID:1848-1513677600-1513692000@zanartclasses.com
SUMMARY:Mixed Media
DESCRIPTION:Expand on the inherent versatility of acrylics by adding other mediums\, specialty papers\, 3D embellishments\, etc. to create your masterpiece. Your imagination is your only limitation. \nToday we will take some of the practice techniques we have learned in our art journal and create an Abstract City!
URL:https://zanartclasses.com/calendar/mixed-media-7/
LOCATION:Hobby Lobby Presidio\, 9265 N Fwy Service Rd E\,\, Fort Worth\, TX\, 76177\, United States
CATEGORIES:Mixed Media
ATTACH;FMTTYPE=image/jpeg:https://zanartclasses.com/wp-content/uploads/2017/12/Abstract-Cityscape-11x14-Mixed-Media.jpg
ORGANIZER;CN="Zan Savage":MAILTO:zanart@gmail.com
END:VEVENT
BEGIN:VEVENT
DTSTART;TZID=America/Chicago:20171206T110000
DTEND;TZID=America/Chicago:20171206T130000
DTSTAMP:20260423T190325
CREATED:20171205T103125Z
LAST-MODIFIED:20171206T042848Z
UID:1853-1512558000-1512565200@zanartclasses.com
SUMMARY:Mixed Media Art Journaling - 2hr session part II
DESCRIPTION:An art journal is a wonderful way to light a fire under our inner artist. It truly is one of those “you can’t do it wrong” things! It is all about exploring your materials and ideas while connecting with that inner artist. \nToday I will introduce the many uses of gauze in the 10-12pm session. Stay and add your own touches or work elsewhere in your journal. You may sign up for either 2hr session or stay all day for a discount!
URL:https://zanartclasses.com/calendar/mixed-media-art-journaling-2hr-session-part-ii/
LOCATION:Hobby Lobby Southlake\, 2115 W Southlake Blvd\, Southlake\, TX\, 76092\, United States
CATEGORIES:Mixed Media
ATTACH;FMTTYPE=image/jpeg:https://zanartclasses.com/wp-content/uploads/2017/12/Art-Journal-Cheesecloth.jpg
ORGANIZER;CN="Zan Savage":MAILTO:zanart@gmail.com
END:VEVENT
BEGIN:VEVENT
DTSTART;TZID=America/Chicago:20171206T090000
DTEND;TZID=America/Chicago:20171206T130000
DTSTAMP:20260423T190325
CREATED:20171205T102832Z
LAST-MODIFIED:20171206T043043Z
UID:1851-1512550800-1512565200@zanartclasses.com
SUMMARY:Mixed Media Art Journaling
DESCRIPTION:An art journal is a wonderful way to light a fire under our inner artist. It truly is one of those “you can’t do it wrong” things! It is all about exploring your materials and ideas while connecting with that inner artist. \nToday I will introduce the many uses of gauze in the 10-12pm session. Stay and add your own touches or work elsewhere in your journal. You may sign up for either 2hr session or stay all day for a discount!
URL:https://zanartclasses.com/calendar/mixed-media-art-journaling/
LOCATION:Hobby Lobby Southlake\, 2115 W Southlake Blvd\, Southlake\, TX\, 76092\, United States
CATEGORIES:Mixed Media
ATTACH;FMTTYPE=image/jpeg:https://zanartclasses.com/wp-content/uploads/2017/12/Art-Journal-Cheesecloth.jpg
ORGANIZER;CN="Zan Savage":MAILTO:zanart@gmail.com
END:VEVENT
BEGIN:VEVENT
DTSTART;TZID=America/Chicago:20171206T090000
DTEND;TZID=America/Chicago:20171206T110000
DTSTAMP:20260423T190325
CREATED:20171205T103112Z
LAST-MODIFIED:20171206T043144Z
UID:1852-1512550800-1512558000@zanartclasses.com
SUMMARY:Mixed Media Art Journaling - 2hr Session Part I
DESCRIPTION:An art journal is a wonderful way to light a fire under our inner artist. It truly is one of those “you can’t do it wrong” things! It is all about exploring your materials and ideas while connecting with that inner artist. \nToday I will introduce the many uses of gauze in the 10-12pm session. Stay and add your own touches or work elsewhere in your journal. You may sign up for either 2hr session or stay all day for a discount!
URL:https://zanartclasses.com/calendar/mixed-media-art-journaling-2hr-session-part-i/
LOCATION:Hobby Lobby Southlake\, 2115 W Southlake Blvd\, Southlake\, TX\, 76092\, United States
CATEGORIES:Mixed Media
ATTACH;FMTTYPE=image/jpeg:https://zanartclasses.com/wp-content/uploads/2017/12/Art-Journal-Cheesecloth.jpg
ORGANIZER;CN="Zan Savage":MAILTO:zanart@gmail.com
END:VEVENT
BEGIN:VEVENT
DTSTART;TZID=America/Chicago:20171114T090000
DTEND;TZID=America/Chicago:20171114T130000
DTSTAMP:20260423T190325
CREATED:20171110T153943Z
LAST-MODIFIED:20171114T215526Z
UID:1718-1510650000-1510664400@zanartclasses.com
SUMMARY:Mixed Media
DESCRIPTION:Expand on the inherent versatility of acrylics by adding other mediums\, speciality papers\, 3D embellishments\, etc. to create your masterpiece. Your imagination is your only limitation.. \nToday I will help you start an Art Journal – we’ll investigate interesting approaches like this fun ripped paper background.
URL:https://zanartclasses.com/calendar/mixed-media-6/
LOCATION:Hobby Lobby Presidio\, 9265 N Fwy Service Rd E\,\, Fort Worth\, TX\, 76177\, United States
CATEGORIES:Mixed Media
ATTACH;FMTTYPE=image/jpeg:https://zanartclasses.com/wp-content/uploads/2017/11/IMG_20171110_122359.jpg
ORGANIZER;CN="Zan Savage":MAILTO:zanart@gmail.com
END:VEVENT
BEGIN:VEVENT
DTSTART;TZID=America/Chicago:20171017T100000
DTEND;TZID=America/Chicago:20171017T140000
DTSTAMP:20260423T190325
CREATED:20170913T072103Z
LAST-MODIFIED:20170913T072155Z
UID:1468-1508234400-1508248800@zanartclasses.com
SUMMARY:Mixed Media
DESCRIPTION:Expand on the inherent versatility of acrylics by adding other mediums\, specialty papers\, 3D embellishments\, etc. to create your masterpiece. Your imagination is your only limitation. \nToday we will create “Wonder” for those of you that were unable to do so the first time. Her cloak is tissue paper!
URL:https://zanartclasses.com/calendar/mixed-media-5/
LOCATION:Hobby Lobby Presidio\, 9265 N Fwy Service Rd E\,\, Fort Worth\, TX\, 76177\, United States
CATEGORIES:Mixed Media
ATTACH;FMTTYPE=image/jpeg:https://zanartclasses.com/wp-content/uploads/2017/09/Wonder.jpg
ORGANIZER;CN="Zan Savage":MAILTO:zanart@gmail.com
END:VEVENT
BEGIN:VEVENT
DTSTART;TZID=America/Chicago:20171014T100000
DTEND;TZID=America/Chicago:20171014T140000
DTSTAMP:20260423T190325
CREATED:20170913T092414Z
LAST-MODIFIED:20170913T092429Z
UID:1530-1507975200-1507989600@zanartclasses.com
SUMMARY:Mixed Media - Standing in the Rain
DESCRIPTION:Expand on the inherent versatility of acrylics by adding other mediums\, specialty papers\, 3D embellishments\, etc. to create your masterpiece. Your imagination is your only limitation. \nToday we will use modeling paste and stencils to create “Standing in the Rain”!
URL:https://zanartclasses.com/calendar/mixed-media-standing-in-the-rain/
LOCATION:Hobby Lobby Lake Worth\, 6580 Lake Worth Blvd\, Lake Worth\, TX\, 76135\, United States
CATEGORIES:Mixed Media
ATTACH;FMTTYPE=image/jpeg:https://zanartclasses.com/wp-content/uploads/2017/05/standing-in-the-rain.jpg
ORGANIZER;CN="Zan Savage":MAILTO:zanart@gmail.com
END:VEVENT
BEGIN:VEVENT
DTSTART;TZID=America/Chicago:20171011T100000
DTEND;TZID=America/Chicago:20171011T140000
DTSTAMP:20260423T190325
CREATED:20170913T075258Z
LAST-MODIFIED:20170913T075258Z
UID:1482-1507716000-1507730400@zanartclasses.com
SUMMARY:Acrylics - Waterlilies
DESCRIPTION:Explore the unique joys of working with acrylics – one of the most versatile and forgiving mediums of them all. \nToday we will paint waterlilies in the tradition of Monet!!
URL:https://zanartclasses.com/calendar/acrylics-waterlilies/
LOCATION:Hobby Lobby Southlake\, 2115 W Southlake Blvd\, Southlake\, TX\, 76092\, United States
CATEGORIES:Mixed Media
ATTACH;FMTTYPE=image/jpeg:https://zanartclasses.com/wp-content/uploads/2017/09/Judy-Waterlilies-inspiration.jpg
ORGANIZER;CN="Zan Savage":MAILTO:zanart@gmail.com
END:VEVENT
BEGIN:VEVENT
DTSTART;TZID=America/Chicago:20171004T100000
DTEND;TZID=America/Chicago:20171004T140000
DTSTAMP:20260423T190325
CREATED:20170913T074813Z
LAST-MODIFIED:20170913T074813Z
UID:1481-1507111200-1507125600@zanartclasses.com
SUMMARY:Mixed Media - Sing
DESCRIPTION:Expand on the inherent versatility of acrylics by adding other mediums\, specialty papers\, 3D embellishments\, etc. to create your masterpiece. Your imagination is your only limitation. \nToday we will create “Sing” for those of you that were unable to do so the first time.
URL:https://zanartclasses.com/calendar/mixed-media-sing/
LOCATION:Hobby Lobby Southlake\, 2115 W Southlake Blvd\, Southlake\, TX\, 76092\, United States
CATEGORIES:Mixed Media
ATTACH;FMTTYPE=image/jpeg:https://zanartclasses.com/wp-content/uploads/2017/05/sing.jpg
ORGANIZER;CN="Zan Savage":MAILTO:zanart@gmail.com
END:VEVENT
BEGIN:VEVENT
DTSTART;TZID=America/Chicago:20170919T050000
DTEND;TZID=America/Chicago:20170919T090000
DTSTAMP:20260423T190325
CREATED:20170830T015957Z
LAST-MODIFIED:20170910T020813Z
UID:1313-1505797200-1505811600@zanartclasses.com
SUMMARY:Mixed Media
DESCRIPTION:Expand on the inherent versatility of acrylics by adding other mediums\, speciality papers\, 3D embellishments\, etc. to create your masterpiece. Your imagination is your only limitation. \nToday we will create a vertical garden on a trellis created with stencils and modeling paste (thanks Chris for the thought on this and Marianna for the photograph inspiration) There are plenty of ways to personalize this!
URL:https://zanartclasses.com/calendar/mixed-media-4/
LOCATION:Hobby Lobby Presidio\, 9265 N Fwy Service Rd E\,\, Fort Worth\, TX\, 76177\, United States
CATEGORIES:Mixed Media
ATTACH;FMTTYPE=image/jpeg:https://zanartclasses.com/wp-content/uploads/2017/08/Flowers-for-mixed-media-inspiration.jpg
ORGANIZER;CN="Zan Savage":MAILTO:zanart@gmail.com
END:VEVENT
BEGIN:VEVENT
DTSTART;TZID=America/Chicago:20170909T110000
DTEND;TZID=America/Chicago:20170909T150000
DTSTAMP:20260423T190325
CREATED:20170830T010235Z
LAST-MODIFIED:20170830T040602Z
UID:1286-1504954800-1504969200@zanartclasses.com
SUMMARY:Michaels Open House - 50% off classes!
DESCRIPTION:
URL:https://zanartclasses.com/calendar/michaels-open-house-50-off-classes-2/
LOCATION:Hobby Lobby Lake Worth\, 6580 Lake Worth Blvd\, Lake Worth\, TX\, 76135\, United States
CATEGORIES:Acrylic Painting,Drawing,Mixed Media,Open Studio,Pastel,Sumi Brush Technique
END:VEVENT
BEGIN:VEVENT
DTSTART;TZID=America/Chicago:20170719T100000
DTEND;TZID=America/Chicago:20170719T140000
DTSTAMP:20260423T190325
CREATED:20170618T070844Z
LAST-MODIFIED:20170621T060958Z
UID:796-1500458400-1500472800@zanartclasses.com
SUMMARY:Mixed Media - Bird Lady 2
DESCRIPTION:Expand on the inherent versatility of acrylics by adding other mediums\, specialty papers\, 3D embellishments\, etc. to create your masterpiece. Your imagination is your only limitation. \nToday we will create ‘Bird Lady2’ another sketch from long ago – I think she will make a great companion piece to the first Bird Lady (or Butterfly or whatever you wish to personalize her with.).
URL:https://zanartclasses.com/calendar/mixed-media-3/
LOCATION:Hobby Lobby Southlake\, 2115 W Southlake Blvd\, Southlake\, TX\, 76092\, United States
CATEGORIES:Mixed Media
ATTACH;FMTTYPE=image/jpeg:https://zanartclasses.com/wp-content/uploads/2017/06/Inspiration-Bird-Woman2.jpg
ORGANIZER;CN="Zan Savage":MAILTO:zanart@gmail.com
END:VEVENT
BEGIN:VEVENT
DTSTART;TZID=America/Chicago:20170704T100000
DTEND;TZID=America/Chicago:20170704T140000
DTSTAMP:20260423T190325
CREATED:20170618T065034Z
LAST-MODIFIED:20170623T030309Z
UID:781-1499162400-1499176800@zanartclasses.com
SUMMARY:Mixed Media - Gustave Klimts 'Tree of Life' for inspiration
DESCRIPTION:We will create something using Gustave Klimts Tee of Life for inspiration. \nThink of the things that could be on your tree of life! Expand on the inherent versatility of acrylics by adding other mediums\, specialty papers\, 3D embellishments\, etc. to create your masterpiece. Your imagination is your only limitation.
URL:https://zanartclasses.com/calendar/mixed-media-2/
LOCATION:Hobby Lobby Presidio\, 9265 N Fwy Service Rd E\,\, Fort Worth\, TX\, 76177\, United States
CATEGORIES:Mixed Media
ATTACH;FMTTYPE=image/jpeg:https://zanartclasses.com/wp-content/uploads/2017/06/Inspiration-Gustave-Klimt-The-Tree-of-Life-1909.jpg
ORGANIZER;CN="Zan Savage":MAILTO:zanart@gmail.com
END:VEVENT
BEGIN:VEVENT
DTSTART;TZID=America/Chicago:20170621T100000
DTEND;TZID=America/Chicago:20170621T140000
DTSTAMP:20260423T190325
CREATED:20170617T095156Z
LAST-MODIFIED:20180319T000632Z
UID:744-1498039200-1498053600@zanartclasses.com
SUMMARY:Mixed Media - Bird Lady
DESCRIPTION:Expand on the inherent versatility of acrylics by adding other mediums\, specialty papers\, 3D embellishments\, etc. to create your masterpiece. Your imagination is your only limitation. \nToday we will create ‘Bird Lady’ another sketch from long ago – this time from a pot I carved with her image.
URL:https://zanartclasses.com/calendar/mixed-media/
LOCATION:Hobby Lobby Southlake\, 2115 W Southlake Blvd\, Southlake\, TX\, 76092\, United States
CATEGORIES:Mixed Media
ATTACH;FMTTYPE=image/jpeg:https://zanartclasses.com/wp-content/uploads/2017/06/Inspiration-Bird-hair-Sketch1.jpg
ORGANIZER;CN="Zan Savage":MAILTO:zanart@gmail.com
END:VEVENT
END:VCALENDAR