BEGIN:VCALENDAR
VERSION:2.0
PRODID:-//ZanArt - ECPv6.15.17.1//NONSGML v1.0//EN
CALSCALE:GREGORIAN
METHOD:PUBLISH
X-ORIGINAL-URL:https://zanartclasses.com
X-WR-CALDESC:Events for ZanArt
REFRESH-INTERVAL;VALUE=DURATION:PT1H
X-Robots-Tag:noindex
X-PUBLISHED-TTL:PT1H
BEGIN:VTIMEZONE
TZID:America/Chicago
BEGIN:DAYLIGHT
TZOFFSETFROM:-0600
TZOFFSETTO:-0500
TZNAME:CDT
DTSTART:20160313T080000
END:DAYLIGHT
BEGIN:STANDARD
TZOFFSETFROM:-0500
TZOFFSETTO:-0600
TZNAME:CST
DTSTART:20161106T070000
END:STANDARD
BEGIN:DAYLIGHT
TZOFFSETFROM:-0600
TZOFFSETTO:-0500
TZNAME:CDT
DTSTART:20170312T080000
END:DAYLIGHT
BEGIN:STANDARD
TZOFFSETFROM:-0500
TZOFFSETTO:-0600
TZNAME:CST
DTSTART:20171105T070000
END:STANDARD
BEGIN:DAYLIGHT
TZOFFSETFROM:-0600
TZOFFSETTO:-0500
TZNAME:CDT
DTSTART:20180311T080000
END:DAYLIGHT
BEGIN:STANDARD
TZOFFSETFROM:-0500
TZOFFSETTO:-0600
TZNAME:CST
DTSTART:20181104T070000
END:STANDARD
END:VTIMEZONE
BEGIN:VEVENT
DTSTART;TZID=America/Chicago:20171004T100000
DTEND;TZID=America/Chicago:20171004T140000
DTSTAMP:20260424T005736
CREATED:20170913T074813Z
LAST-MODIFIED:20170913T074813Z
UID:1481-1507111200-1507125600@zanartclasses.com
SUMMARY:Mixed Media - Sing
DESCRIPTION:Expand on the inherent versatility of acrylics by adding other mediums\, specialty papers\, 3D embellishments\, etc. to create your masterpiece. Your imagination is your only limitation. \nToday we will create “Sing” for those of you that were unable to do so the first time.
URL:https://zanartclasses.com/calendar/mixed-media-sing/
LOCATION:Hobby Lobby Southlake\, 2115 W Southlake Blvd\, Southlake\, TX\, 76092\, United States
CATEGORIES:Mixed Media
ATTACH;FMTTYPE=image/jpeg:https://zanartclasses.com/wp-content/uploads/2017/05/sing.jpg
ORGANIZER;CN="Zan Savage":MAILTO:zanart@gmail.com
END:VEVENT
BEGIN:VEVENT
DTSTART;TZID=America/Chicago:20170919T050000
DTEND;TZID=America/Chicago:20170919T090000
DTSTAMP:20260424T005736
CREATED:20170830T015957Z
LAST-MODIFIED:20170910T020813Z
UID:1313-1505797200-1505811600@zanartclasses.com
SUMMARY:Mixed Media
DESCRIPTION:Expand on the inherent versatility of acrylics by adding other mediums\, speciality papers\, 3D embellishments\, etc. to create your masterpiece. Your imagination is your only limitation. \nToday we will create a vertical garden on a trellis created with stencils and modeling paste (thanks Chris for the thought on this and Marianna for the photograph inspiration) There are plenty of ways to personalize this!
URL:https://zanartclasses.com/calendar/mixed-media-4/
LOCATION:Hobby Lobby Presidio\, 9265 N Fwy Service Rd E\,\, Fort Worth\, TX\, 76177\, United States
CATEGORIES:Mixed Media
ATTACH;FMTTYPE=image/jpeg:https://zanartclasses.com/wp-content/uploads/2017/08/Flowers-for-mixed-media-inspiration.jpg
ORGANIZER;CN="Zan Savage":MAILTO:zanart@gmail.com
END:VEVENT
BEGIN:VEVENT
DTSTART;TZID=America/Chicago:20170909T110000
DTEND;TZID=America/Chicago:20170909T150000
DTSTAMP:20260424T005736
CREATED:20170830T010235Z
LAST-MODIFIED:20170830T040602Z
UID:1286-1504954800-1504969200@zanartclasses.com
SUMMARY:Michaels Open House - 50% off classes!
DESCRIPTION:
URL:https://zanartclasses.com/calendar/michaels-open-house-50-off-classes-2/
LOCATION:Hobby Lobby Lake Worth\, 6580 Lake Worth Blvd\, Lake Worth\, TX\, 76135\, United States
CATEGORIES:Acrylic Painting,Drawing,Mixed Media,Open Studio,Pastel,Sumi Brush Technique
END:VEVENT
BEGIN:VEVENT
DTSTART;TZID=America/Chicago:20170719T100000
DTEND;TZID=America/Chicago:20170719T140000
DTSTAMP:20260424T005736
CREATED:20170618T070844Z
LAST-MODIFIED:20170621T060958Z
UID:796-1500458400-1500472800@zanartclasses.com
SUMMARY:Mixed Media - Bird Lady 2
DESCRIPTION:Expand on the inherent versatility of acrylics by adding other mediums\, specialty papers\, 3D embellishments\, etc. to create your masterpiece. Your imagination is your only limitation. \nToday we will create ‘Bird Lady2’ another sketch from long ago – I think she will make a great companion piece to the first Bird Lady (or Butterfly or whatever you wish to personalize her with.).
URL:https://zanartclasses.com/calendar/mixed-media-3/
LOCATION:Hobby Lobby Southlake\, 2115 W Southlake Blvd\, Southlake\, TX\, 76092\, United States
CATEGORIES:Mixed Media
ATTACH;FMTTYPE=image/jpeg:https://zanartclasses.com/wp-content/uploads/2017/06/Inspiration-Bird-Woman2.jpg
ORGANIZER;CN="Zan Savage":MAILTO:zanart@gmail.com
END:VEVENT
BEGIN:VEVENT
DTSTART;TZID=America/Chicago:20170704T100000
DTEND;TZID=America/Chicago:20170704T140000
DTSTAMP:20260424T005736
CREATED:20170618T065034Z
LAST-MODIFIED:20170623T030309Z
UID:781-1499162400-1499176800@zanartclasses.com
SUMMARY:Mixed Media - Gustave Klimts 'Tree of Life' for inspiration
DESCRIPTION:We will create something using Gustave Klimts Tee of Life for inspiration. \nThink of the things that could be on your tree of life! Expand on the inherent versatility of acrylics by adding other mediums\, specialty papers\, 3D embellishments\, etc. to create your masterpiece. Your imagination is your only limitation.
URL:https://zanartclasses.com/calendar/mixed-media-2/
LOCATION:Hobby Lobby Presidio\, 9265 N Fwy Service Rd E\,\, Fort Worth\, TX\, 76177\, United States
CATEGORIES:Mixed Media
ATTACH;FMTTYPE=image/jpeg:https://zanartclasses.com/wp-content/uploads/2017/06/Inspiration-Gustave-Klimt-The-Tree-of-Life-1909.jpg
ORGANIZER;CN="Zan Savage":MAILTO:zanart@gmail.com
END:VEVENT
BEGIN:VEVENT
DTSTART;TZID=America/Chicago:20170621T100000
DTEND;TZID=America/Chicago:20170621T140000
DTSTAMP:20260424T005736
CREATED:20170617T095156Z
LAST-MODIFIED:20180319T000632Z
UID:744-1498039200-1498053600@zanartclasses.com
SUMMARY:Mixed Media - Bird Lady
DESCRIPTION:Expand on the inherent versatility of acrylics by adding other mediums\, specialty papers\, 3D embellishments\, etc. to create your masterpiece. Your imagination is your only limitation. \nToday we will create ‘Bird Lady’ another sketch from long ago – this time from a pot I carved with her image.
URL:https://zanartclasses.com/calendar/mixed-media/
LOCATION:Hobby Lobby Southlake\, 2115 W Southlake Blvd\, Southlake\, TX\, 76092\, United States
CATEGORIES:Mixed Media
ATTACH;FMTTYPE=image/jpeg:https://zanartclasses.com/wp-content/uploads/2017/06/Inspiration-Bird-hair-Sketch1.jpg
ORGANIZER;CN="Zan Savage":MAILTO:zanart@gmail.com
END:VEVENT
END:VCALENDAR