BEGIN:VCALENDAR
VERSION:2.0
PRODID:-//ZanArt - ECPv6.15.17.1//NONSGML v1.0//EN
CALSCALE:GREGORIAN
METHOD:PUBLISH
X-ORIGINAL-URL:https://zanartclasses.com
X-WR-CALDESC:Events for ZanArt
REFRESH-INTERVAL;VALUE=DURATION:PT1H
X-Robots-Tag:noindex
X-PUBLISHED-TTL:PT1H
BEGIN:VTIMEZONE
TZID:America/Chicago
BEGIN:DAYLIGHT
TZOFFSETFROM:-0600
TZOFFSETTO:-0500
TZNAME:CDT
DTSTART:20180311T080000
END:DAYLIGHT
BEGIN:STANDARD
TZOFFSETFROM:-0500
TZOFFSETTO:-0600
TZNAME:CST
DTSTART:20181104T070000
END:STANDARD
BEGIN:DAYLIGHT
TZOFFSETFROM:-0600
TZOFFSETTO:-0500
TZNAME:CDT
DTSTART:20190310T080000
END:DAYLIGHT
BEGIN:STANDARD
TZOFFSETFROM:-0500
TZOFFSETTO:-0600
TZNAME:CST
DTSTART:20191103T070000
END:STANDARD
BEGIN:DAYLIGHT
TZOFFSETFROM:-0600
TZOFFSETTO:-0500
TZNAME:CDT
DTSTART:20200308T080000
END:DAYLIGHT
BEGIN:STANDARD
TZOFFSETFROM:-0500
TZOFFSETTO:-0600
TZNAME:CST
DTSTART:20201101T070000
END:STANDARD
BEGIN:DAYLIGHT
TZOFFSETFROM:-0600
TZOFFSETTO:-0500
TZNAME:CDT
DTSTART:20210314T080000
END:DAYLIGHT
BEGIN:STANDARD
TZOFFSETFROM:-0500
TZOFFSETTO:-0600
TZNAME:CST
DTSTART:20211107T070000
END:STANDARD
END:VTIMEZONE
BEGIN:VEVENT
DTSTART;TZID=America/Chicago:20200201T100000
DTEND;TZID=America/Chicago:20200201T140000
DTSTAMP:20260423T212652
CREATED:20200117T041433Z
LAST-MODIFIED:20200117T041433Z
UID:7111-1580551200-1580565600@zanartclasses.com
SUMMARY:Open Studio
DESCRIPTION:Have a project you need help with? Whether acrylic\, oil\, watercolor\, pastels\, drawing\, mixed media\, sculpture or more – let me use my experience in the arts to help guide you in your creations. This could also be a great time to enhance a Flow painting or pour another!\nSign up for either 2hr session or stay all day for $40!
URL:https://zanartclasses.com/calendar/open-studio-60/
LOCATION:Hobby Lobby Lake Worth\, 6580 Lake Worth Blvd\, Lake Worth\, TX\, 76135\, United States
CATEGORIES:Open Studio
ATTACH;FMTTYPE=image/png:https://zanartclasses.com/wp-content/uploads/2019/01/Open-Studio-Collage-2.png
ORGANIZER;CN="Zan Savage":MAILTO:zanart@gmail.com
END:VEVENT
BEGIN:VEVENT
DTSTART;TZID=America/Chicago:20200108T100000
DTEND;TZID=America/Chicago:20200108T140000
DTSTAMP:20260423T212652
CREATED:20191213T030918Z
LAST-MODIFIED:20191213T030918Z
UID:6538-1578477600-1578492000@zanartclasses.com
SUMMARY:Open Studio
DESCRIPTION:Have a project you need help with? Whether acrylic\, oil\, watercolor\, pastels\, drawing\, mixed media\, sculpture or more – let me use my experience in the arts to help guide you in your creations. This could also be a great time to enhance a Flow painting or pour another!\nSign up for either 2hr session or stay all day for $40!
URL:https://zanartclasses.com/calendar/open-studio-59/
LOCATION:Hobby Lobby Southlake\, 2115 W Southlake Blvd\, Southlake\, TX\, 76092\, United States
CATEGORIES:Open Studio
ATTACH;FMTTYPE=image/png:https://zanartclasses.com/wp-content/uploads/2019/01/Open-Studio-Collage-2.png
ORGANIZER;CN="Zan Savage":MAILTO:zanart@gmail.com
END:VEVENT
BEGIN:VEVENT
DTSTART;TZID=America/Chicago:20200104T100000
DTEND;TZID=America/Chicago:20200104T140000
DTSTAMP:20260423T212652
CREATED:20191213T030818Z
LAST-MODIFIED:20191213T030818Z
UID:6529-1578132000-1578146400@zanartclasses.com
SUMMARY:Open Studio
DESCRIPTION:Have a project you need help with? Whether acrylic\, oil\, watercolor\, pastels\, drawing\, mixed media\, sculpture or more – let me use my experience in the arts to help guide you in your creations. This could also be a great time to enhance a Flow painting or pour another!\nSign up for either 2hr session or stay all day for $40!
URL:https://zanartclasses.com/calendar/open-studio-58/
LOCATION:Hobby Lobby Lake Worth\, 6580 Lake Worth Blvd\, Lake Worth\, TX\, 76135\, United States
CATEGORIES:Open Studio
ATTACH;FMTTYPE=image/png:https://zanartclasses.com/wp-content/uploads/2019/01/Open-Studio-Collage-2.png
ORGANIZER;CN="Zan Savage":MAILTO:zanart@gmail.com
END:VEVENT
BEGIN:VEVENT
DTSTART;TZID=America/Chicago:20191106T100000
DTEND;TZID=America/Chicago:20191106T140000
DTSTAMP:20260423T212652
CREATED:20191012T132947Z
LAST-MODIFIED:20191012T132947Z
UID:6168-1573034400-1573048800@zanartclasses.com
SUMMARY:Open Studio
DESCRIPTION:Have a project you need help with? Whether acrylic\, oil\, watercolor\, pastels\, drawing\, mixed media\, sculpture or more – let me use my experience in the arts to help guide you in your creations. This could also be a great time to enhance a Flow painting or pour another!\nSign up for either 2hr session or stay all day for $40!
URL:https://zanartclasses.com/calendar/open-studio-57/
LOCATION:Hobby Lobby Southlake\, 2115 W Southlake Blvd\, Southlake\, TX\, 76092\, United States
CATEGORIES:Open Studio
ATTACH;FMTTYPE=image/png:https://zanartclasses.com/wp-content/uploads/2019/01/Open-Studio-Collage-2.png
ORGANIZER;CN="Zan Savage":MAILTO:zanart@gmail.com
END:VEVENT
BEGIN:VEVENT
DTSTART;TZID=America/Chicago:20191102T100000
DTEND;TZID=America/Chicago:20191102T140000
DTSTAMP:20260423T212652
CREATED:20191012T132837Z
LAST-MODIFIED:20191012T132837Z
UID:6162-1572688800-1572703200@zanartclasses.com
SUMMARY:Open Studio
DESCRIPTION:Have a project you need help with? Whether acrylic\, oil\, watercolor\, pastels\, drawing\, mixed media\, sculpture or more – let me use my experience in the arts to help guide you in your creations. This could also be a great time to enhance a Flow painting or pour another!\nSign up for either 2hr session or stay all day for $40!
URL:https://zanartclasses.com/calendar/open-studio-56/
LOCATION:Hobby Lobby Lake Worth\, 6580 Lake Worth Blvd\, Lake Worth\, TX\, 76135\, United States
CATEGORIES:Open Studio
ATTACH;FMTTYPE=image/png:https://zanartclasses.com/wp-content/uploads/2019/01/Open-Studio-Collage-2.png
ORGANIZER;CN="Zan Savage":MAILTO:zanart@gmail.com
END:VEVENT
BEGIN:VEVENT
DTSTART;TZID=America/Chicago:20191030T100000
DTEND;TZID=America/Chicago:20191030T140000
DTSTAMP:20260423T212652
CREATED:20190919T194908Z
LAST-MODIFIED:20190919T194908Z
UID:6076-1572429600-1572444000@zanartclasses.com
SUMMARY:Open Studio
DESCRIPTION:Have a project you need help with? Whether acrylic\, oil\, watercolor\, pastels\, drawing\, mixed media\, sculpture or more – let me use my experience in the arts to help guide you in your creations. This could also be a great time to enhance a Flow painting or pour another!\nSign up for either 2hr session or stay all day for $40!
URL:https://zanartclasses.com/calendar/open-studio-55/
LOCATION:Hobby Lobby Southlake\, 2115 W Southlake Blvd\, Southlake\, TX\, 76092\, United States
CATEGORIES:Open Studio
ATTACH;FMTTYPE=image/png:https://zanartclasses.com/wp-content/uploads/2019/01/Open-Studio-Collage-2.png
ORGANIZER;CN="Zan Savage":MAILTO:zanart@gmail.com
END:VEVENT
BEGIN:VEVENT
DTSTART;TZID=America/Chicago:20191009T100000
DTEND;TZID=America/Chicago:20191009T140000
DTSTAMP:20260423T212652
CREATED:20190919T194029Z
LAST-MODIFIED:20190919T194029Z
UID:5984-1570615200-1570629600@zanartclasses.com
SUMMARY:Open Studio
DESCRIPTION:Have a project you need help with? Whether acrylic\, oil\, watercolor\, pastels\, drawing\, mixed media\, sculpture or more – let me use my experience in the arts to help guide you in your creations. This could also be a great time to enhance a Flow painting or pour another!\nSign up for either 2hr session or stay all day for $40!
URL:https://zanartclasses.com/calendar/open-studio-54/
LOCATION:Hobby Lobby Southlake\, 2115 W Southlake Blvd\, Southlake\, TX\, 76092\, United States
CATEGORIES:Open Studio
ATTACH;FMTTYPE=image/png:https://zanartclasses.com/wp-content/uploads/2019/01/Open-Studio-Collage-2.png
ORGANIZER;CN="Zan Savage":MAILTO:zanart@gmail.com
END:VEVENT
BEGIN:VEVENT
DTSTART;TZID=America/Chicago:20191005T100000
DTEND;TZID=America/Chicago:20191005T140000
DTSTAMP:20260423T212652
CREATED:20190919T194000Z
LAST-MODIFIED:20190919T194000Z
UID:5977-1570269600-1570284000@zanartclasses.com
SUMMARY:Open Studio
DESCRIPTION:Have a project you need help with? Whether acrylic\, oil\, watercolor\, pastels\, drawing\, mixed media\, sculpture or more – let me use my experience in the arts to help guide you in your creations. This could also be a great time to enhance a Flow painting or pour another!\nSign up for either 2hr session or stay all day for $40!
URL:https://zanartclasses.com/calendar/open-studio-53/
LOCATION:Hobby Lobby Lake Worth\, 6580 Lake Worth Blvd\, Lake Worth\, TX\, 76135\, United States
CATEGORIES:Open Studio
ATTACH;FMTTYPE=image/png:https://zanartclasses.com/wp-content/uploads/2019/01/Open-Studio-Collage-2.png
ORGANIZER;CN="Zan Savage":MAILTO:zanart@gmail.com
END:VEVENT
BEGIN:VEVENT
DTSTART;TZID=America/Chicago:20190925T100000
DTEND;TZID=America/Chicago:20190925T140000
DTSTAMP:20260423T212652
CREATED:20190815T223048Z
LAST-MODIFIED:20190815T223048Z
UID:5827-1569405600-1569420000@zanartclasses.com
SUMMARY:Open Studio
DESCRIPTION:Have a project you need help with? Whether acrylic\, oil\, watercolor\, pastels\, drawing\, mixed media\, sculpture or more – let me use my experience in the arts to help guide you in your creations. This could also be a great time to enhance a Flow painting or pour another!\nSign up for either 2hr session or stay all day for $40!
URL:https://zanartclasses.com/calendar/open-studio-52/
LOCATION:Hobby Lobby Southlake\, 2115 W Southlake Blvd\, Southlake\, TX\, 76092\, United States
CATEGORIES:Open Studio
ATTACH;FMTTYPE=image/png:https://zanartclasses.com/wp-content/uploads/2019/01/Open-Studio-Collage-2.png
ORGANIZER;CN="Zan Savage":MAILTO:zanart@gmail.com
END:VEVENT
BEGIN:VEVENT
DTSTART;TZID=America/Chicago:20190914T100000
DTEND;TZID=America/Chicago:20190914T140000
DTSTAMP:20260423T212652
CREATED:20190815T222713Z
LAST-MODIFIED:20190815T222713Z
UID:5779-1568455200-1568469600@zanartclasses.com
SUMMARY:Open Studio
DESCRIPTION:Have a project you need help with? Whether acrylic\, oil\, watercolor\, pastels\, drawing\, mixed media\, sculpture or more – let me use my experience in the arts to help guide you in your creations. This could also be a great time to enhance a Flow painting or pour another!\nSign up for either 2hr session or stay all day for $40!
URL:https://zanartclasses.com/calendar/open-studio-51/
LOCATION:Hobby Lobby Lake Worth\, 6580 Lake Worth Blvd\, Lake Worth\, TX\, 76135\, United States
CATEGORIES:Open Studio
ATTACH;FMTTYPE=image/png:https://zanartclasses.com/wp-content/uploads/2019/01/Open-Studio-Collage-2.png
ORGANIZER;CN="Zan Savage":MAILTO:zanart@gmail.com
END:VEVENT
BEGIN:VEVENT
DTSTART;TZID=America/Chicago:20190807T100000
DTEND;TZID=America/Chicago:20190807T140000
DTSTAMP:20260423T212652
CREATED:20190720T182212Z
LAST-MODIFIED:20190720T182212Z
UID:5604-1565172000-1565186400@zanartclasses.com
SUMMARY:Open Studio
DESCRIPTION:Have a project you need help with? Whether acrylic\, oil\, watercolor\, pastels\, drawing\, mixed media\, sculpture or more – let me use my experience in the arts to help guide you in your creations. This could also be a great time to enhance a Flow painting or pour another!\nSign up for either 2hr session or stay all day for $40!
URL:https://zanartclasses.com/calendar/open-studio-50/
LOCATION:Hobby Lobby Southlake\, 2115 W Southlake Blvd\, Southlake\, TX\, 76092\, United States
CATEGORIES:Open Studio
ATTACH;FMTTYPE=image/png:https://zanartclasses.com/wp-content/uploads/2019/01/Open-Studio-Collage-2.png
ORGANIZER;CN="Zan Savage":MAILTO:zanart@gmail.com
END:VEVENT
BEGIN:VEVENT
DTSTART;TZID=America/Chicago:20190803T100000
DTEND;TZID=America/Chicago:20190803T140000
DTSTAMP:20260423T212652
CREATED:20190720T182139Z
LAST-MODIFIED:20190720T182139Z
UID:5597-1564826400-1564840800@zanartclasses.com
SUMMARY:Open Studio
DESCRIPTION:Have a project you need help with? Whether acrylic\, oil\, watercolor\, pastels\, drawing\, mixed media\, sculpture or more – let me use my experience in the arts to help guide you in your creations. This could also be a great time to enhance a Flow painting or pour another!\nSign up for either 2hr session or stay all day for $40!
URL:https://zanartclasses.com/calendar/open-studio-49/
LOCATION:Hobby Lobby Lake Worth\, 6580 Lake Worth Blvd\, Lake Worth\, TX\, 76135\, United States
CATEGORIES:Open Studio
ATTACH;FMTTYPE=image/png:https://zanartclasses.com/wp-content/uploads/2019/01/Open-Studio-Collage-2.png
ORGANIZER;CN="Zan Savage":MAILTO:zanart@gmail.com
END:VEVENT
BEGIN:VEVENT
DTSTART;TZID=America/Chicago:20190730T100000
DTEND;TZID=America/Chicago:20190730T140000
DTSTAMP:20260423T212652
CREATED:20190609T163717Z
LAST-MODIFIED:20190624T170912Z
UID:5481-1564480800-1564495200@zanartclasses.com
SUMMARY:Open Studio
DESCRIPTION:Have a project you need help with? Whether acrylic\, oil\, watercolor\, pastels\, drawing\, mixed media\, sculpture or more – let me use my experience in the arts to help guide you in your creations. This could also be a great time to enhance a Flow painting or pour another!\nSign up for either 2hr session or stay all day for $40!
URL:https://zanartclasses.com/calendar/acrylic-101/
LOCATION:Hobby Lobby Presidio\, 9265 N Fwy Service Rd E\,\, Fort Worth\, TX\, 76177\, United States
CATEGORIES:Open Studio
ATTACH;FMTTYPE=image/png:https://zanartclasses.com/wp-content/uploads/2019/01/Open-Studio-Collage-2.png
ORGANIZER;CN="Zan Savage":MAILTO:zanart@gmail.com
END:VEVENT
BEGIN:VEVENT
DTSTART;TZID=America/Chicago:20190723T100000
DTEND;TZID=America/Chicago:20190723T140000
DTSTAMP:20260423T212652
CREATED:20190609T162926Z
LAST-MODIFIED:20190609T165522Z
UID:5440-1563876000-1563890400@zanartclasses.com
SUMMARY:Open Studio
DESCRIPTION:Have a project you need help with? Whether acrylic\, oil\, watercolor\, pastels\, drawing\, mixed media\, sculpture or more – let me use my experience in the arts to help guide you in your creations. This could also be a great time to enhance a Flow painting or pour another!\nSign up for either 2hr session or stay all day for $40!
URL:https://zanartclasses.com/calendar/open-studio-47/
LOCATION:Hobby Lobby Presidio\, 9265 N Fwy Service Rd E\,\, Fort Worth\, TX\, 76177\, United States
CATEGORIES:Open Studio
ATTACH;FMTTYPE=image/png:https://zanartclasses.com/wp-content/uploads/2019/01/Open-Studio-Collage-2.png
ORGANIZER;CN="Zan Savage":MAILTO:zanart@gmail.com
END:VEVENT
BEGIN:VEVENT
DTSTART;TZID=America/Chicago:20190716T100000
DTEND;TZID=America/Chicago:20190716T140000
DTSTAMP:20260423T212652
CREATED:20190624T172431Z
LAST-MODIFIED:20190624T173110Z
UID:5511-1563271200-1563285600@zanartclasses.com
SUMMARY:Open Studio
DESCRIPTION:Have a project you need help with? Whether acrylic\, oil\, watercolor\, pastels\, drawing\, mixed media\, sculpture or more – let me use my experience in the arts to help guide you in your creations. This could also be a great time to enhance a Flow painting or pour another!\nSign up for either 2hr session or stay all day for $40!
URL:https://zanartclasses.com/calendar/open-studio-48/
LOCATION:Hobby Lobby Presidio\, 9265 N Fwy Service Rd E\,\, Fort Worth\, TX\, 76177\, United States
CATEGORIES:Open Studio
ATTACH;FMTTYPE=image/png:https://zanartclasses.com/wp-content/uploads/2019/01/Open-Studio-Collage-2.png
ORGANIZER;CN="Zan Savage":MAILTO:zanart@gmail.com
END:VEVENT
BEGIN:VEVENT
DTSTART;TZID=America/Chicago:20190710T100000
DTEND;TZID=America/Chicago:20190710T140000
DTSTAMP:20260423T212652
CREATED:20190609T162244Z
LAST-MODIFIED:20190609T165704Z
UID:5411-1562752800-1562767200@zanartclasses.com
SUMMARY:Open Studio
DESCRIPTION:Have a project you need help with? Whether acrylic\, oil\, watercolor\, pastels\, drawing\, mixed media\, sculpture or more – let me use my experience in the arts to help guide you in your creations. This could also be a great time to enhance a Flow painting or pour another!\nSign up for either 2hr session or stay all day for $40!
URL:https://zanartclasses.com/calendar/open-studio-46/
LOCATION:Hobby Lobby Southlake\, 2115 W Southlake Blvd\, Southlake\, TX\, 76092\, United States
CATEGORIES:Open Studio
ATTACH;FMTTYPE=image/png:https://zanartclasses.com/wp-content/uploads/2019/01/Open-Studio-Collage-2.png
ORGANIZER;CN="Zan Savage":MAILTO:zanart@gmail.com
END:VEVENT
BEGIN:VEVENT
DTSTART;TZID=America/Chicago:20190709T100000
DTEND;TZID=America/Chicago:20190709T140000
DTSTAMP:20260423T212652
CREATED:20190609T162130Z
LAST-MODIFIED:20190709T000146Z
UID:5403-1562666400-1562680800@zanartclasses.com
SUMMARY:Open Studio
DESCRIPTION:Have a project you need help with? Whether acrylic\, oil\, watercolor\, pastels\, drawing\, mixed media\, sculpture or more – let me use my experience in the arts to help guide you in your creations. This could also be a great time to enhance a Flow painting or pour another!\nSign up for either 2hr session or stay all day for $40!
URL:https://zanartclasses.com/calendar/acrylic-92/
LOCATION:Hobby Lobby Presidio\, 9265 N Fwy Service Rd E\,\, Fort Worth\, TX\, 76177\, United States
CATEGORIES:Open Studio
ATTACH;FMTTYPE=image/png:https://zanartclasses.com/wp-content/uploads/2019/01/Open-Studio-Collage-2.png
ORGANIZER;CN="Zan Savage":MAILTO:zanart@gmail.com
END:VEVENT
BEGIN:VEVENT
DTSTART;TZID=America/Chicago:20190706T100000
DTEND;TZID=America/Chicago:20190706T140000
DTSTAMP:20260423T212652
CREATED:20190609T162028Z
LAST-MODIFIED:20190609T165833Z
UID:5398-1562407200-1562421600@zanartclasses.com
SUMMARY:Open Studio
DESCRIPTION:Have a project you need help with? Whether acrylic\, oil\, watercolor\, pastels\, drawing\, mixed media\, sculpture or more – let me use my experience in the arts to help guide you in your creations. This could also be a great time to enhance a Flow painting or pour another!\nSign up for either 2hr session or stay all day for $40!
URL:https://zanartclasses.com/calendar/open-studio-45/
LOCATION:Hobby Lobby Lake Worth\, 6580 Lake Worth Blvd\, Lake Worth\, TX\, 76135\, United States
CATEGORIES:Open Studio
ATTACH;FMTTYPE=image/png:https://zanartclasses.com/wp-content/uploads/2019/01/Open-Studio-Collage-2.png
ORGANIZER;CN="Zan Savage":MAILTO:zanart@gmail.com
END:VEVENT
BEGIN:VEVENT
DTSTART;TZID=America/Chicago:20190625T100000
DTEND;TZID=America/Chicago:20190625T140000
DTSTAMP:20260423T212652
CREATED:20190512T195642Z
LAST-MODIFIED:20190512T195642Z
UID:5262-1561456800-1561471200@zanartclasses.com
SUMMARY:Open Studio
DESCRIPTION:Have a project you need help with? Whether acrylic\, oil\, watercolor\, pastels\, drawing\, mixed media\, sculpture or more – let me use my experience in the arts to help guide you in your creations. This could also be a great time to enhance a Flow painting or pour another!\nSign up for either 2hr session or stay all day for $40!
URL:https://zanartclasses.com/calendar/open-studio-44/
LOCATION:Hobby Lobby Presidio\, 9265 N Fwy Service Rd E\,\, Fort Worth\, TX\, 76177\, United States
CATEGORIES:Open Studio
ATTACH;FMTTYPE=image/png:https://zanartclasses.com/wp-content/uploads/2019/01/Open-Studio-Collage-2.png
ORGANIZER;CN="Zan Savage":MAILTO:zanart@gmail.com
END:VEVENT
BEGIN:VEVENT
DTSTART;TZID=America/Chicago:20190605T100000
DTEND;TZID=America/Chicago:20190605T140000
DTSTAMP:20260423T212652
CREATED:20190512T184034Z
LAST-MODIFIED:20190512T184034Z
UID:5257-1559728800-1559743200@zanartclasses.com
SUMMARY:Open Studio
DESCRIPTION:Have a project you need help with? Whether acrylic\, oil\, watercolor\, pastels\, drawing\, mixed media\, sculpture or more – let me use my experience in the arts to help guide you in your creations. This could also be a great time to enhance a Flow painting or pour another!\nSign up for either 2hr session or stay all day for $40!
URL:https://zanartclasses.com/calendar/open-studio-43/
LOCATION:Hobby Lobby Southlake\, 2115 W Southlake Blvd\, Southlake\, TX\, 76092\, United States
CATEGORIES:Open Studio
ATTACH;FMTTYPE=image/png:https://zanartclasses.com/wp-content/uploads/2019/01/Open-Studio-Collage-2.png
ORGANIZER;CN="Zan Savage":MAILTO:zanart@gmail.com
END:VEVENT
BEGIN:VEVENT
DTSTART;TZID=America/Chicago:20190601T100000
DTEND;TZID=America/Chicago:20190601T140000
DTSTAMP:20260423T212652
CREATED:20190512T183906Z
LAST-MODIFIED:20190512T183906Z
UID:5244-1559383200-1559397600@zanartclasses.com
SUMMARY:Open Studio
DESCRIPTION:Have a project you need help with? Whether acrylic\, oil\, watercolor\, pastels\, drawing\, mixed media\, sculpture or more – let me use my experience in the arts to help guide you in your creations. This could also be a great time to enhance a Flow painting or pour another!\nSign up for either 2hr session or stay all day for $40!
URL:https://zanartclasses.com/calendar/open-studio-42/
LOCATION:Hobby Lobby Lake Worth\, 6580 Lake Worth Blvd\, Lake Worth\, TX\, 76135\, United States
CATEGORIES:Open Studio
ATTACH;FMTTYPE=image/png:https://zanartclasses.com/wp-content/uploads/2019/01/Open-Studio-Collage-2.png
ORGANIZER;CN="Zan Savage":MAILTO:zanart@gmail.com
END:VEVENT
BEGIN:VEVENT
DTSTART;TZID=America/Chicago:20190521T100000
DTEND;TZID=America/Chicago:20190521T140000
DTSTAMP:20260423T212652
CREATED:20190421T235740Z
LAST-MODIFIED:20190421T235740Z
UID:5123-1558432800-1558447200@zanartclasses.com
SUMMARY:Open Studio
DESCRIPTION:Have a project you need help with? Whether acrylic\, oil\, watercolor\, pastels\, drawing\, mixed media\, sculpture or more – let me use my experience in the arts to help guide you in your creations. This could also be a great time to enhance a Flow painting or pour another!\nSign up for either 2hr session or stay all day for $40!
URL:https://zanartclasses.com/calendar/open-studio-41/
LOCATION:Hobby Lobby Presidio\, 9265 N Fwy Service Rd E\,\, Fort Worth\, TX\, 76177\, United States
CATEGORIES:Open Studio
ATTACH;FMTTYPE=image/png:https://zanartclasses.com/wp-content/uploads/2019/01/Open-Studio-Collage-2.png
ORGANIZER;CN="Zan Savage":MAILTO:zanart@gmail.com
END:VEVENT
BEGIN:VEVENT
DTSTART;TZID=America/Chicago:20190508T100000
DTEND;TZID=America/Chicago:20190508T140000
DTSTAMP:20260423T212652
CREATED:20190421T222619Z
LAST-MODIFIED:20190421T222619Z
UID:5092-1557309600-1557324000@zanartclasses.com
SUMMARY:Open Studio
DESCRIPTION:Have a project you need help with? Whether acrylic\, oil\, watercolor\, pastels\, drawing\, mixed media\, sculpture or more – let me use my experience in the arts to help guide you in your creations. This could also be a great time to enhance a Flow painting or pour another!\nSign up for either 2hr session or stay all day for $40!
URL:https://zanartclasses.com/calendar/open-studio-40/
LOCATION:Hobby Lobby Southlake\, 2115 W Southlake Blvd\, Southlake\, TX\, 76092\, United States
CATEGORIES:Open Studio
ATTACH;FMTTYPE=image/png:https://zanartclasses.com/wp-content/uploads/2019/01/Open-Studio-Collage-2.png
ORGANIZER;CN="Zan Savage":MAILTO:zanart@gmail.com
END:VEVENT
BEGIN:VEVENT
DTSTART;TZID=America/Chicago:20190504T100000
DTEND;TZID=America/Chicago:20190504T140000
DTSTAMP:20260423T212652
CREATED:20190421T222404Z
LAST-MODIFIED:20190421T222404Z
UID:5079-1556964000-1556978400@zanartclasses.com
SUMMARY:Open Studio
DESCRIPTION:Have a project you need help with? Whether acrylic\, oil\, watercolor\, pastels\, drawing\, mixed media\, sculpture or more – let me use my experience in the arts to help guide you in your creations. This could also be a great time to enhance a Flow painting or pour another!\nSign up for either 2hr session or stay all day for $40!
URL:https://zanartclasses.com/calendar/open-studio-39/
LOCATION:Hobby Lobby Lake Worth\, 6580 Lake Worth Blvd\, Lake Worth\, TX\, 76135\, United States
CATEGORIES:Open Studio
ATTACH;FMTTYPE=image/png:https://zanartclasses.com/wp-content/uploads/2019/01/Open-Studio-Collage-2.png
ORGANIZER;CN="Zan Savage":MAILTO:zanart@gmail.com
END:VEVENT
BEGIN:VEVENT
DTSTART;TZID=America/Chicago:20190416T100000
DTEND;TZID=America/Chicago:20190416T140000
DTSTAMP:20260423T212652
CREATED:20190320T190554Z
LAST-MODIFIED:20190320T190554Z
UID:4942-1555408800-1555423200@zanartclasses.com
SUMMARY:Open Studio
DESCRIPTION:Have a project you need help with? Whether acrylic\, oil\, watercolor\, pastels\, drawing\, mixed media\, sculpture or more – let me use my experience in the arts to help guide you in your creations. This could also be a great time to enhance a Flow painting or pour another!\nSign up for either 2hr session or stay all day for $40!
URL:https://zanartclasses.com/calendar/open-studio-38/
LOCATION:Hobby Lobby Presidio\, 9265 N Fwy Service Rd E\,\, Fort Worth\, TX\, 76177\, United States
CATEGORIES:Open Studio
ATTACH;FMTTYPE=image/png:https://zanartclasses.com/wp-content/uploads/2019/01/Open-Studio-Collage-2.png
ORGANIZER;CN="Zan Savage":MAILTO:zanart@gmail.com
END:VEVENT
BEGIN:VEVENT
DTSTART;TZID=America/Chicago:20190319T100000
DTEND;TZID=America/Chicago:20190319T140000
DTSTAMP:20260423T212652
CREATED:20190221T210425Z
LAST-MODIFIED:20190301T010146Z
UID:4772-1552989600-1553004000@zanartclasses.com
SUMMARY:Open Studio
DESCRIPTION:Have a project you need help with? Whether acrylic\, oil\, watercolor\, pastels\, drawing\, mixed media\, sculpture or more – let me use my experience in the arts to help guide you in your creations. This could also be a great time to enhance a Flow painting or pour another!\nSign up for either 2hr session or stay all day for $40!
URL:https://zanartclasses.com/calendar/open-studio-37/
LOCATION:Hobby Lobby Presidio\, 9265 N Fwy Service Rd E\,\, Fort Worth\, TX\, 76177\, United States
CATEGORIES:Open Studio
ATTACH;FMTTYPE=image/png:https://zanartclasses.com/wp-content/uploads/2019/01/Open-Studio-Collage-2.png
ORGANIZER;CN="Zan Savage":MAILTO:zanart@gmail.com
END:VEVENT
BEGIN:VEVENT
DTSTART;TZID=America/Chicago:20190306T100000
DTEND;TZID=America/Chicago:20190306T140000
DTSTAMP:20260423T212652
CREATED:20190221T182217Z
LAST-MODIFIED:20190221T183158Z
UID:4736-1551866400-1551880800@zanartclasses.com
SUMMARY:Open Studio
DESCRIPTION:Have a project you need help with? Whether acrylic\, oil\, watercolor\, pastels\, drawing\, mixed media\, sculpture or more – let me use my experience in the arts to help guide you in your creations. This could also be a great time to enhance a Flow painting or pour another!\nSign up for either 2hr session or stay all day for $40!
URL:https://zanartclasses.com/calendar/open-studio-36/
LOCATION:Hobby Lobby Southlake\, 2115 W Southlake Blvd\, Southlake\, TX\, 76092\, United States
CATEGORIES:Open Studio
ATTACH;FMTTYPE=image/png:https://zanartclasses.com/wp-content/uploads/2019/01/Open-Studio-Collage-2.png
ORGANIZER;CN="Zan Savage":MAILTO:zanart@gmail.com
END:VEVENT
BEGIN:VEVENT
DTSTART;TZID=America/Chicago:20190302T100000
DTEND;TZID=America/Chicago:20190302T140000
DTSTAMP:20260423T212652
CREATED:20190221T181959Z
LAST-MODIFIED:20190221T182832Z
UID:4723-1551520800-1551535200@zanartclasses.com
SUMMARY:Open Studio
DESCRIPTION:Have a project you need help with? Whether acrylic\, oil\, watercolor\, pastels\, drawing\, mixed media\, sculpture or more – let me use my experience in the arts to help guide you in your creations. This could also be a great time to enhance a Flow painting or pour another!\nSign up for either 2hr session or stay all day for $40!
URL:https://zanartclasses.com/calendar/open-studio-35/
LOCATION:Hobby Lobby Lake Worth\, 6580 Lake Worth Blvd\, Lake Worth\, TX\, 76135\, United States
CATEGORIES:Open Studio
ATTACH;FMTTYPE=image/png:https://zanartclasses.com/wp-content/uploads/2019/01/Open-Studio-Collage-2.png
ORGANIZER;CN="Zan Savage":MAILTO:zanart@gmail.com
END:VEVENT
BEGIN:VEVENT
DTSTART;TZID=America/Chicago:20190219T100000
DTEND;TZID=America/Chicago:20190219T140000
DTSTAMP:20260423T212652
CREATED:20190123T184518Z
LAST-MODIFIED:20190123T184518Z
UID:4586-1550570400-1550584800@zanartclasses.com
SUMMARY:Open Studio
DESCRIPTION:Have a project you need help with? Whether acrylic\, oil\, watercolor\, pastels\, drawing\, mixed media\, sculpture or more – let me use my experience in the arts to help guide you in your creations. This could also be a great time to enhance a Flow painting or pour another!\nSign up for either 2hr session or stay all day for $40!
URL:https://zanartclasses.com/calendar/open-studio-34/
LOCATION:Hobby Lobby Presidio\, 9265 N Fwy Service Rd E\,\, Fort Worth\, TX\, 76177\, United States
CATEGORIES:Open Studio
ATTACH;FMTTYPE=image/png:https://zanartclasses.com/wp-content/uploads/2019/01/Open-Studio-Collage-2.png
ORGANIZER;CN="Zan Savage":MAILTO:zanart@gmail.com
END:VEVENT
BEGIN:VEVENT
DTSTART;TZID=America/Chicago:20190206T100000
DTEND;TZID=America/Chicago:20190206T140000
DTSTAMP:20260423T212652
CREATED:20190123T030123Z
LAST-MODIFIED:20190123T030123Z
UID:4555-1549447200-1549461600@zanartclasses.com
SUMMARY:Open Studio
DESCRIPTION:Have a project you need help with? Whether acrylic\, oil\, watercolor\, pastels\, drawing\, mixed media\, sculpture or more – let me use my experience in the arts to help guide you in your creations. This could also be a great time to enhance a Flow painting or pour another!\nSign up for either 2hr session or stay all day for $40!
URL:https://zanartclasses.com/calendar/open-studio-33/
LOCATION:Hobby Lobby Southlake\, 2115 W Southlake Blvd\, Southlake\, TX\, 76092\, United States
CATEGORIES:Open Studio
ATTACH;FMTTYPE=image/png:https://zanartclasses.com/wp-content/uploads/2019/01/Open-Studio-Collage-2.png
ORGANIZER;CN="Zan Savage":MAILTO:zanart@gmail.com
END:VEVENT
END:VCALENDAR