BEGIN:VCALENDAR
VERSION:2.0
PRODID:-//ZanArt - ECPv6.15.17.1//NONSGML v1.0//EN
CALSCALE:GREGORIAN
METHOD:PUBLISH
X-WR-CALNAME:ZanArt
X-ORIGINAL-URL:https://zanartclasses.com
X-WR-CALDESC:Events for ZanArt
REFRESH-INTERVAL;VALUE=DURATION:PT1H
X-Robots-Tag:noindex
X-PUBLISHED-TTL:PT1H
BEGIN:VTIMEZONE
TZID:America/Chicago
BEGIN:DAYLIGHT
TZOFFSETFROM:-0600
TZOFFSETTO:-0500
TZNAME:CDT
DTSTART:20240310T080000
END:DAYLIGHT
BEGIN:STANDARD
TZOFFSETFROM:-0500
TZOFFSETTO:-0600
TZNAME:CST
DTSTART:20241103T070000
END:STANDARD
BEGIN:DAYLIGHT
TZOFFSETFROM:-0600
TZOFFSETTO:-0500
TZNAME:CDT
DTSTART:20250309T080000
END:DAYLIGHT
BEGIN:STANDARD
TZOFFSETFROM:-0500
TZOFFSETTO:-0600
TZNAME:CST
DTSTART:20251102T070000
END:STANDARD
BEGIN:DAYLIGHT
TZOFFSETFROM:-0600
TZOFFSETTO:-0500
TZNAME:CDT
DTSTART:20260308T080000
END:DAYLIGHT
BEGIN:STANDARD
TZOFFSETFROM:-0500
TZOFFSETTO:-0600
TZNAME:CST
DTSTART:20261101T070000
END:STANDARD
END:VTIMEZONE
BEGIN:VEVENT
DTSTART;TZID=America/Chicago:20251108T093000
DTEND;TZID=America/Chicago:20251108T123000
DTSTAMP:20260424T113905
CREATED:20251030T164631Z
LAST-MODIFIED:20251030T164918Z
UID:17490-1762594200-1762605000@zanartclasses.com
SUMMARY:Acrylic Abstract Flower Drip
DESCRIPTION:Explore the unique joys of working with acrylics – one of the most versatile and forgiving mediums of them all.\n\n\n\n\n\n\n\nToday I will show you a couple of easy ways to use acrylics with a serendipitous drip technique to paint the background for ‘Abstract Flower Drip’ Of course I will show you a couple of tricks to capture the essence of flowers too!😊\n\n\n\n\n\n\n\nThis class is offered at Thomas Place as part of the Community Outreach Program for The City of Fort Worth and requires sign up through them. \nIn a nutshell\, if you wish to take one class at a time (this class is $35 + supplies & a nominal annual membership fee) you will sign up there the day of class or you may sign up for the entire month at a discount online (or at the Rec Center). You can learn more about how & full pricing by contacting the team there at  817-392-7427 or stopping by. You may also contact me  or sign up for my newsletter which will also have all the info you will need! \nHowever you elect to sign up\, I would appreciate at least a 24hr head’s up that you will be attending which you may do through my contact link here or in response to the newsletter email… \nDon’t forget\, if this is your first class with me\, your supplies are FREE!  Be sure to let me know so I can have them prepared!
URL:https://zanartclasses.com/calendar/acrylic-abstract-flower-drip/
LOCATION:Thomas Place\, 4237 Lafayette Avenue\, Fort Worth\, TX\, 76107\, United States
CATEGORIES:Acrylic Painting
ATTACH;FMTTYPE=image/jpeg:https://zanartclasses.com/wp-content/uploads/2017/12/Abstract-Flower-Drip-11x14-acrylic.jpg
ORGANIZER;CN="Zan Savage":MAILTO:zanart@gmail.com
END:VEVENT
BEGIN:VEVENT
DTSTART;TZID=America/Chicago:20251128T130000
DTEND;TZID=America/Chicago:20251128T160000
DTSTAMP:20260424T113905
CREATED:20251030T012505Z
LAST-MODIFIED:20251030T013932Z
UID:17478-1764334800-1764345600@zanartclasses.com
SUMMARY:Unleash Your Inner Artist with Serendipitous Techniques Impressionistic Posies
DESCRIPTION: \n\n\n\n\n\n\n\n\nExplore the unique joys of working with acrylics–one of the most versatile and forgiving mediums of them all! \n\n\n\n\n\n\n\n\n\n\n\n\nToday we’ll use palette knives and a few quick tricks with the brush to paint ‘Impressionistic Posies’. It’ll be very easy to satisfy your inner artist with different colors and shapes on this one!😊 \n\n\n\n\n  \n\n\n\n\n  \n\n\n\n\nAs is often the case in Zan’s classes\, emphasis will be on technique with encouragement to play with colors and forms if desired.\n\nGeared toward the beginner and experienced painter alike\, you will walk away empowered and excited to apply what you’ve learned!  \nZan believes that the chance results that occur when using serendipitous techniques fosters increased creativity and an intimate connection with whatever medium one is working with. Hence\, it is one of her favorite ways to connect herself and her students to their inner artist and it’s FUN too!! \n\n \n\nSign up here – supplies are provided!\n\n\n\n\n\n\n\n\n\n\n 
URL:https://zanartclasses.com/calendar/unleash-your-inner-artist-with-serendipitous-techniques-impressionistic-posies/
LOCATION:House of Neville\, 2409 Neville Street\, Fort Worth\, TX\, 76107\, United States
CATEGORIES:Acrylic Painting
ATTACH;FMTTYPE=image/jpeg:https://zanartclasses.com/wp-content/uploads/2025/04/Impressionist-Posies-9x12acrylic-©Zan-.jpg
END:VEVENT
END:VCALENDAR