BEGIN:VCALENDAR
VERSION:2.0
PRODID:-//ZanArt - ECPv6.15.17.1//NONSGML v1.0//EN
CALSCALE:GREGORIAN
METHOD:PUBLISH
X-WR-CALNAME:ZanArt
X-ORIGINAL-URL:https://zanartclasses.com
X-WR-CALDESC:Events for ZanArt
REFRESH-INTERVAL;VALUE=DURATION:PT1H
X-Robots-Tag:noindex
X-PUBLISHED-TTL:PT1H
BEGIN:VTIMEZONE
TZID:America/Chicago
BEGIN:DAYLIGHT
TZOFFSETFROM:-0600
TZOFFSETTO:-0500
TZNAME:CDT
DTSTART:20250309T080000
END:DAYLIGHT
BEGIN:STANDARD
TZOFFSETFROM:-0500
TZOFFSETTO:-0600
TZNAME:CST
DTSTART:20251102T070000
END:STANDARD
BEGIN:DAYLIGHT
TZOFFSETFROM:-0600
TZOFFSETTO:-0500
TZNAME:CDT
DTSTART:20260308T080000
END:DAYLIGHT
BEGIN:STANDARD
TZOFFSETFROM:-0500
TZOFFSETTO:-0600
TZNAME:CST
DTSTART:20261101T070000
END:STANDARD
BEGIN:DAYLIGHT
TZOFFSETFROM:-0600
TZOFFSETTO:-0500
TZNAME:CDT
DTSTART:20270314T080000
END:DAYLIGHT
BEGIN:STANDARD
TZOFFSETFROM:-0500
TZOFFSETTO:-0600
TZNAME:CST
DTSTART:20271107T070000
END:STANDARD
END:VTIMEZONE
BEGIN:VEVENT
DTSTART;TZID=America/Chicago:20260213T130000
DTEND;TZID=America/Chicago:20260213T160000
DTSTAMP:20260425T094528
CREATED:20260128T195416Z
LAST-MODIFIED:20260128T195811Z
UID:18004-1770987600-1770998400@zanartclasses.com
SUMMARY:Unleash Your Inner Artist with Serendipitous Techniques Alcohol Inks Flower Field
DESCRIPTION:Join us to explore this fast drying\, vibrant\, transparent medium with many exciting possibilities for use! \n\n\n\n\n\n\n\n\nToday I’ll show you how to lift and deposit alcohol inks to create a field of flowers and use an acrylic marker for further definition if desired!  There will be lots of room to satisfy your inner artist with this one!”😊 \n\n\n\n\n\n  \n\n\n\n\nAs is often the case in Zan’s classes\, emphasis will be on technique with encouragement to play with colors and forms if desired.\n\nGeared toward the beginner and experienced painter alike\, you will walk away empowered and excited to apply what you’ve learned!  \nZan believes that the chance results that occur when using serendipitous techniques fosters increased creativity and an intimate connection with whatever medium one is working with. Hence\, it is one of her favorite ways to connect herself and her students to their inner artist and it’s FUN too!! \n\n \n\nSign up here – $45 – supplies are provided!\n\n\n\n\n\n\n\n\n\n\n 
URL:https://zanartclasses.com/calendar/unleash-your-inner-artist-with-serendipitous-techniques-alcohol-inks-flower-field/
LOCATION:House of Neville\, 2409 Neville Street\, Fort Worth\, TX\, 76107\, United States
CATEGORIES:Alcohol Ink
ATTACH;FMTTYPE=image/jpeg:https://zanartclasses.com/wp-content/uploads/2021/08/Flower-Field-2-alcohol-ink-©-Zan-Savage.jpg
END:VEVENT
END:VCALENDAR