BEGIN:VCALENDAR
VERSION:2.0
PRODID:-//ZanArt - ECPv6.15.17.1//NONSGML v1.0//EN
CALSCALE:GREGORIAN
METHOD:PUBLISH
X-WR-CALNAME:ZanArt
X-ORIGINAL-URL:https://zanartclasses.com
X-WR-CALDESC:Events for ZanArt
REFRESH-INTERVAL;VALUE=DURATION:PT1H
X-Robots-Tag:noindex
X-PUBLISHED-TTL:PT1H
BEGIN:VTIMEZONE
TZID:America/Chicago
BEGIN:DAYLIGHT
TZOFFSETFROM:-0600
TZOFFSETTO:-0500
TZNAME:CDT
DTSTART:20240310T080000
END:DAYLIGHT
BEGIN:STANDARD
TZOFFSETFROM:-0500
TZOFFSETTO:-0600
TZNAME:CST
DTSTART:20241103T070000
END:STANDARD
BEGIN:DAYLIGHT
TZOFFSETFROM:-0600
TZOFFSETTO:-0500
TZNAME:CDT
DTSTART:20250309T080000
END:DAYLIGHT
BEGIN:STANDARD
TZOFFSETFROM:-0500
TZOFFSETTO:-0600
TZNAME:CST
DTSTART:20251102T070000
END:STANDARD
BEGIN:DAYLIGHT
TZOFFSETFROM:-0600
TZOFFSETTO:-0500
TZNAME:CDT
DTSTART:20260308T080000
END:DAYLIGHT
BEGIN:STANDARD
TZOFFSETFROM:-0500
TZOFFSETTO:-0600
TZNAME:CST
DTSTART:20261101T070000
END:STANDARD
END:VTIMEZONE
BEGIN:VEVENT
DTSTART;TZID=America/Chicago:20250808T130000
DTEND;TZID=America/Chicago:20250808T160000
DTSTAMP:20260425T202257
CREATED:20250721T041337Z
LAST-MODIFIED:20250721T042109Z
UID:16915-1754658000-1754668800@zanartclasses.com
SUMMARY:Unleash Your Inner Artist with Serendipitous Techniques Balloon Kiss Swipe Flow
DESCRIPTION:In today​’s Acrylic Pour session I’ll show you a process using balloons with puddles and swipes to give the flavor of flowers. As always\, with an acrylic pour\, no two will be alike and you may use whatever colors you wish! \nHowever\, in an acrylic pour painting class\, you may elect to try a different flow painting technique. “Acrylic pours allow for a great deal of opportunity to indulge your inner artist using your favored colors and playing with variables. I’ll be happy to share what I know to assist” 😊 \n\n\n\n 😉\n\n\n\nAs is often the case in Zan’s classes\, emphasis will be on technique with encouragement to play with colors and forms if desired. \n\nGeared toward the beginner and experienced painter alike\, you will walk away empowered and excited to apply what you’ve learned!  \nZan believes that the chance results that occur when using serendipitous techniques fosters increased creativity and an intimate connection with whatever medium one is working with. Hence\, it is one of her favorite ways to connect herself and her students to their inner artist and it’s FUN too!! \n\n \n\nSign up here – $45 – supplies are provided!\n\n\n\n\n\n\n\n\n\n\n 
URL:https://zanartclasses.com/calendar/unleash-your-inner-artist-with-serendipitous-techniques-acrylic-pour-balloon-kiss-swipe/
LOCATION:House of Neville\, 2409 Neville Street\, Fort Worth\, TX\, 76107\, United States
CATEGORIES:Flow
ATTACH;FMTTYPE=image/png:https://zanartclasses.com/wp-content/uploads/2022/03/Swipe-Balloon-Kiss-Flow-Collage.png
END:VEVENT
END:VCALENDAR