BEGIN:VCALENDAR
VERSION:2.0
PRODID:-//ZanArt - ECPv6.15.17.1//NONSGML v1.0//EN
CALSCALE:GREGORIAN
METHOD:PUBLISH
X-ORIGINAL-URL:https://zanartclasses.com
X-WR-CALDESC:Events for ZanArt
REFRESH-INTERVAL;VALUE=DURATION:PT1H
X-Robots-Tag:noindex
X-PUBLISHED-TTL:PT1H
BEGIN:VTIMEZONE
TZID:America/Chicago
BEGIN:DAYLIGHT
TZOFFSETFROM:-0600
TZOFFSETTO:-0500
TZNAME:CDT
DTSTART:20240310T080000
END:DAYLIGHT
BEGIN:STANDARD
TZOFFSETFROM:-0500
TZOFFSETTO:-0600
TZNAME:CST
DTSTART:20241103T070000
END:STANDARD
BEGIN:DAYLIGHT
TZOFFSETFROM:-0600
TZOFFSETTO:-0500
TZNAME:CDT
DTSTART:20250309T080000
END:DAYLIGHT
BEGIN:STANDARD
TZOFFSETFROM:-0500
TZOFFSETTO:-0600
TZNAME:CST
DTSTART:20251102T070000
END:STANDARD
BEGIN:DAYLIGHT
TZOFFSETFROM:-0600
TZOFFSETTO:-0500
TZNAME:CDT
DTSTART:20260308T080000
END:DAYLIGHT
BEGIN:STANDARD
TZOFFSETFROM:-0500
TZOFFSETTO:-0600
TZNAME:CST
DTSTART:20261101T070000
END:STANDARD
END:VTIMEZONE
BEGIN:VEVENT
DTSTART;TZID=America/Chicago:20251118T100000
DTEND;TZID=America/Chicago:20251118T130000
DTSTAMP:20260425T080607
CREATED:20251030T005048Z
LAST-MODIFIED:20251116T145301Z
UID:17464-1763460000-1763470800@zanartclasses.com
SUMMARY:Magnet Fun Week!
DESCRIPTION:Today we’ll have a little Magnet Fun! I’ll bring​ various sizes and shapes of canvas ​magnets for everyone to enhance using mixed media techniques including bleeding tissue paper\, alcohol inks\, acrylic pours and stamping.. Your imagination is your only limitation! Of course I’ll show you how😊 \n FREE SUPPLIES today as my Thanks to you for joining my classes!\n\n\n\n\n\n\n\nThis class is offered at Betsy Price Community Center as part of the Community Outreach Program for The City of Fort Worth and requires sign up through them. \nIn a nutshell\, if you wish to take one class at a time (this class is $35 (free supplies today) & a nominal membership fee) you will sign up there the day of class or you may sign up for the entire month at a discount online (or at the Community Center). You can learn more about how & full pricing by contacting the team there at  (817) 392-5665 or stopping by. You may also contact me  or sign up for my newsletter which will also have all the info you will need! \nHowever you elect to sign up\, I would appreciate at least a 24hr head’s up that you will be attending which you may do through my contact link here or in response to the newsletter email… \nDon’t forget\, if this is your first class with me\, your supplies are FREE!  Be sure to let me know so I can have them prepared!
URL:https://zanartclasses.com/calendar/magnet-fun-week/
LOCATION:Betsy Price Community Center\, 8375 Blue Mound Rd\, Fort Worth\, TX\, 76131\, United States
CATEGORIES:Acrylic Painting
ATTACH;FMTTYPE=image/png:https://zanartclasses.com/wp-content/uploads/2025/10/Canvas-Magnet-Fun-Collage-turq.png
ORGANIZER;CN="Zan Savage":MAILTO:zanart@gmail.com
END:VEVENT
END:VCALENDAR