BEGIN:VCALENDAR
VERSION:2.0
PRODID:-//ZanArt - ECPv6.15.17.1//NONSGML v1.0//EN
CALSCALE:GREGORIAN
METHOD:PUBLISH
X-ORIGINAL-URL:https://zanartclasses.com
X-WR-CALDESC:Events for ZanArt
REFRESH-INTERVAL;VALUE=DURATION:PT1H
X-Robots-Tag:noindex
X-PUBLISHED-TTL:PT1H
BEGIN:VTIMEZONE
TZID:America/Chicago
BEGIN:DAYLIGHT
TZOFFSETFROM:-0600
TZOFFSETTO:-0500
TZNAME:CDT
DTSTART:20240310T080000
END:DAYLIGHT
BEGIN:STANDARD
TZOFFSETFROM:-0500
TZOFFSETTO:-0600
TZNAME:CST
DTSTART:20241103T070000
END:STANDARD
BEGIN:DAYLIGHT
TZOFFSETFROM:-0600
TZOFFSETTO:-0500
TZNAME:CDT
DTSTART:20250309T080000
END:DAYLIGHT
BEGIN:STANDARD
TZOFFSETFROM:-0500
TZOFFSETTO:-0600
TZNAME:CST
DTSTART:20251102T070000
END:STANDARD
BEGIN:DAYLIGHT
TZOFFSETFROM:-0600
TZOFFSETTO:-0500
TZNAME:CDT
DTSTART:20260308T080000
END:DAYLIGHT
BEGIN:STANDARD
TZOFFSETFROM:-0500
TZOFFSETTO:-0600
TZNAME:CST
DTSTART:20261101T070000
END:STANDARD
END:VTIMEZONE
BEGIN:VEVENT
DTSTART;TZID=America/Chicago:20251107T130000
DTEND;TZID=America/Chicago:20251107T160000
DTSTAMP:20260424T044421
CREATED:20251029T232613Z
LAST-MODIFIED:20251030T172123Z
UID:17451-1762520400-1762531200@zanartclasses.com
SUMMARY:Unleash Your Inner Artist with Serendipitous Techniques Florida Moonrise
DESCRIPTION: \n\n\n\n\n\n\n\n\nExplore the unique joys of working with acrylics–one of the most versatile and forgiving mediums of them all! \n\n\n\n\n\n\n\n\nToday we will paint ‘Florida Moonrise’ -inspired by a dear friend’s striking photo taken on a visit some years ago . I love painting the full moon and bright twinkling lights of the buildings and look forward to showing you how to make them glow!!!😊 \n\n\n\n\n  \n\n\n\n\nAs is often the case in Zan’s classes\, emphasis will be on technique with encouragement to play with colors and forms if desired.\n\nGeared toward the beginner and experienced painter alike\, you will walk away empowered and excited to apply what you’ve learned!  \nZan believes that the chance results that occur when using serendipitous techniques fosters increased creativity and an intimate connection with whatever medium one is working with. Hence\, it is one of her favorite ways to connect herself and her students to their inner artist and it’s FUN too!! \n\n \n\nSign up here – supplies are provided!\n\n\n\n\n\n\n\n\n\n\n 
URL:https://zanartclasses.com/calendar/unleash-your-inner-artist-with-serendipitous-techniques-florida-moonrise/
LOCATION:House of Neville\, 2409 Neville Street\, Fort Worth\, TX\, 76107\, United States
CATEGORIES:Acrylic Painting
ATTACH;FMTTYPE=image/jpeg:https://zanartclasses.com/wp-content/uploads/2023/12/Seaside-Moonrise-11x14-acrylic-©-Zan.jpg
END:VEVENT
END:VCALENDAR