BEGIN:VCALENDAR
VERSION:2.0
PRODID:-//ZanArt - ECPv6.15.17.1//NONSGML v1.0//EN
CALSCALE:GREGORIAN
METHOD:PUBLISH
X-ORIGINAL-URL:https://zanartclasses.com
X-WR-CALDESC:Events for ZanArt
REFRESH-INTERVAL;VALUE=DURATION:PT1H
X-Robots-Tag:noindex
X-PUBLISHED-TTL:PT1H
BEGIN:VTIMEZONE
TZID:America/Chicago
BEGIN:DAYLIGHT
TZOFFSETFROM:-0600
TZOFFSETTO:-0500
TZNAME:CDT
DTSTART:20250309T080000
END:DAYLIGHT
BEGIN:STANDARD
TZOFFSETFROM:-0500
TZOFFSETTO:-0600
TZNAME:CST
DTSTART:20251102T070000
END:STANDARD
BEGIN:DAYLIGHT
TZOFFSETFROM:-0600
TZOFFSETTO:-0500
TZNAME:CDT
DTSTART:20260308T080000
END:DAYLIGHT
BEGIN:STANDARD
TZOFFSETFROM:-0500
TZOFFSETTO:-0600
TZNAME:CST
DTSTART:20261101T070000
END:STANDARD
BEGIN:DAYLIGHT
TZOFFSETFROM:-0600
TZOFFSETTO:-0500
TZNAME:CDT
DTSTART:20270314T080000
END:DAYLIGHT
BEGIN:STANDARD
TZOFFSETFROM:-0500
TZOFFSETTO:-0600
TZNAME:CST
DTSTART:20271107T070000
END:STANDARD
END:VTIMEZONE
BEGIN:VEVENT
DTSTART;TZID=America/Chicago:20260513T093000
DTEND;TZID=America/Chicago:20260513T123000
DTSTAMP:20260420T163338
CREATED:20260417T021852Z
LAST-MODIFIED:20260417T022653Z
UID:18399-1778664600-1778675400@zanartclasses.com
SUMMARY:Soft Pastel Colorado Sunset
DESCRIPTION:Discover the unique joys of this powdery medium. It is considered both a drawing and a painting process and is extremely versatile!\n\nToday we will use soft pastels to create the soothing ‘Colorado Sunset’\, a lesson inspired from a stunning photo my Mom took from the view out her window a couple of years ago.   😊\n  \n\n\n\nThis class is offered at Thomas Place as part of the Community Outreach Program for The City of Fort Worth and requires sign up through them. \nIn a nutshell\, if you wish to take one class at a time (this class is $35 + supplies & a nominal annual membership fee) you will sign up there the day of class or you may sign up for the entire month at a discount online (or at the Rec Center). You can learn more about how & full pricing by contacting the team there at  817-392-7427 or stopping by. You may also contact me  or sign up for my newsletter which will also have all the info you will need! \nHowever you elect to sign up\, I would appreciate at least a 24hr head’s up that you will be attending which you may do through my contact link here or in response to the newsletter email… \nDon’t forget\, if this is your first class with me\, your supplies are FREE!  Be sure to let me know so I can have them prepared!
URL:https://zanartclasses.com/calendar/soft-pastel-colorado-sunset/
LOCATION:Thomas Place\, 4237 Lafayette Avenue\, Fort Worth\, TX\, 76107\, United States
CATEGORIES:Pastel
ATTACH;FMTTYPE=image/jpeg:https://zanartclasses.com/wp-content/uploads/2017/12/Colorado-Sunset-pastel-9x12-pastel.jpg
ORGANIZER;CN="Zan Savage":MAILTO:zanart@gmail.com
END:VEVENT
BEGIN:VEVENT
DTSTART;TZID=America/Chicago:20260515T130000
DTEND;TZID=America/Chicago:20260515T160000
DTSTAMP:20260420T163338
CREATED:20260417T023120Z
LAST-MODIFIED:20260417T023442Z
UID:18403-1778850000-1778860800@zanartclasses.com
SUMMARY:Unleash Your Inner Artist with Serendipitous Techniques Soft Pastels Blue Sky City
DESCRIPTION: \n\n\n\n\n\n\n\n\nDiscover the unique joys of this powdery medium. It is considered both a drawing and a painting medium and is extremely versatile \n\n\n\n\n\n\n\n\n\n\n\n\nToday we will use soft pastels to capture an abstract sky and cityscape inspired by a  stunning photo by Marianna Bond!\n\n\n\n\n\n\n\n\n\n\n\nAs is often the case in Zan’s classes\, emphasis will be on technique with encouragement to play with colors and forms if desired.\nGeared toward the beginner and experienced painter alike\, you will walk away empowered and excited to apply what you’ve learned!  Zan believes that the chance results that occur when using serendipitous techniques fosters increased creativity and an intimate connection with whatever medium one is working with. Hence\, it is one of her favorite ways to connect herself and her students to their inner artist and it’s FUN too!!\n \n\nSign up here – supplies are provided!\n\n\n\n\n\n\n\n\n\n\n 
URL:https://zanartclasses.com/calendar/unleash-your-inner-artist-with-serendipitous-techniques-soft-pastels-blue-sky-city/
LOCATION:House of Neville\, 2409 Neville Street\, Fort Worth\, TX\, 76107\, United States
CATEGORIES:Pastel
ATTACH;FMTTYPE=image/jpeg:https://zanartclasses.com/wp-content/uploads/2017/12/Blue-Cloud-City-9x12-pastel.jpg
ORGANIZER;CN="Zan Savage":MAILTO:zanart@gmail.com
END:VEVENT
END:VCALENDAR