BEGIN:VCALENDAR
VERSION:2.0
PRODID:-//ZanArt - ECPv6.15.17.1//NONSGML v1.0//EN
CALSCALE:GREGORIAN
METHOD:PUBLISH
X-WR-CALNAME:ZanArt
X-ORIGINAL-URL:https://zanartclasses.com
X-WR-CALDESC:Events for ZanArt
REFRESH-INTERVAL;VALUE=DURATION:PT1H
X-Robots-Tag:noindex
X-PUBLISHED-TTL:PT1H
BEGIN:VTIMEZONE
TZID:America/Chicago
BEGIN:DAYLIGHT
TZOFFSETFROM:-0600
TZOFFSETTO:-0500
TZNAME:CDT
DTSTART:20250309T080000
END:DAYLIGHT
BEGIN:STANDARD
TZOFFSETFROM:-0500
TZOFFSETTO:-0600
TZNAME:CST
DTSTART:20251102T070000
END:STANDARD
BEGIN:DAYLIGHT
TZOFFSETFROM:-0600
TZOFFSETTO:-0500
TZNAME:CDT
DTSTART:20260308T080000
END:DAYLIGHT
BEGIN:STANDARD
TZOFFSETFROM:-0500
TZOFFSETTO:-0600
TZNAME:CST
DTSTART:20261101T070000
END:STANDARD
BEGIN:DAYLIGHT
TZOFFSETFROM:-0600
TZOFFSETTO:-0500
TZNAME:CDT
DTSTART:20270314T080000
END:DAYLIGHT
BEGIN:STANDARD
TZOFFSETFROM:-0500
TZOFFSETTO:-0600
TZNAME:CST
DTSTART:20271107T070000
END:STANDARD
END:VTIMEZONE
BEGIN:VEVENT
DTSTART;TZID=America/Chicago:20260502T093000
DTEND;TZID=America/Chicago:20260502T123000
DTSTAMP:20260425T084651
CREATED:20260415T114100Z
LAST-MODIFIED:20260423T045042Z
UID:18379-1777714200-1777725000@zanartclasses.com
SUMMARY:Acrylic Wildflowers with Burlap Bow
DESCRIPTION:Explore the unique joys of working with acrylics – one of the most versatile and forgiving mediums of them all.\n\n\n\n  \nToday we will use the palette knife to depict a freshly picked bouquet of wildflowers and a fork to help with the burlap bow. There will be lots of room to play with the colors in this one. Don’t worry\, as always\, I’ll show you how😊\n\n\n\nThis class is offered at Thomas Place as part of the Community Outreach Program for The City of Fort Worth and requires sign up through them. \nIn a nutshell\, if you wish to take one class at a time (this class is $35 + supplies & a nominal annual membership fee) you will sign up there the day of class or you may sign up for the entire month at a discount online (or at the Rec Center). You can learn more about how & full pricing by contacting the team there at  817-392-7427 or stopping by. You may also contact me  or sign up for my newsletter which will also have all the info you will need! \nHowever you elect to sign up\, I would appreciate at least a 24hr head’s up that you will be attending which you may do through my contact link here or in response to the newsletter email… \nDon’t forget\, if this is your first class with me\, your supplies are FREE!  Be sure to let me know so I can have them prepared!
URL:https://zanartclasses.com/calendar/acrylic-wildflowers-with-burlap-bow/
LOCATION:Thomas Place\, 4237 Lafayette Avenue\, Fort Worth\, TX\, 76107\, United States
CATEGORIES:Acrylic Painting
ATTACH;FMTTYPE=image/jpeg:https://zanartclasses.com/wp-content/uploads/2018/12/Wildflowers-with-Burlap-Bow-9x12-acrylic-©-Zan-Savage.jpg
ORGANIZER;CN="Zan Savage":MAILTO:zanart@gmail.com
END:VEVENT
BEGIN:VEVENT
DTSTART;TZID=America/Chicago:20260508T130000
DTEND;TZID=America/Chicago:20260508T160000
DTSTAMP:20260425T084651
CREATED:20260416T003320Z
LAST-MODIFIED:20260416T003744Z
UID:18389-1778245200-1778256000@zanartclasses.com
SUMMARY:Unleash Your Inner Artist with Serendipitous Techniques Ocean Acrylic Pour
DESCRIPTION: \n\n\n\n\nPouring\, puddling\, dripping\, swiping… these classes will explore the exciting possibilities in the technique often called Pour Acrylics!\n\n\n\n\n  \nToday I’ll  demo a process that will give the impression of an Ocean Shore! 😊 \nIn an acrylic pour painting class\, you may elect to try a different flow painting technique. Acrylic pours allow for a great deal of opportunity to indulge your inner artist using your favored colors and playing with variables. I’ll be happy to share what I know to assist 😊 \n\n\n\n\n\n\n\n\nAs is often the case in Zan’s classes\, emphasis will be on technique with encouragement to play with colors and forms if desired.\nGeared toward the beginner and experienced painter alike\, you will walk away empowered and excited to apply what you’ve learned!  Zan believes that the chance results that occur when using serendipitous techniques fosters increased creativity and an intimate connection with whatever medium one is working with. Hence\, it is one of her favorite ways to connect herself and her students to their inner artist and it’s FUN too!!\n \n\nSign up here – supplies are provided!\n\n\n\n\n\n\n\n\n\n\n 
URL:https://zanartclasses.com/calendar/unleash-your-inner-artist-with-serendipitous-techniques-ocean-acrylic-pour/
LOCATION:House of Neville\, 2409 Neville Street\, Fort Worth\, TX\, 76107\, United States
CATEGORIES:Flow,Flow Painting
ATTACH;FMTTYPE=image/jpeg:https://zanartclasses.com/wp-content/uploads/2023/05/Ocean-Acrylic-Pour-Collage.jpg
ORGANIZER;CN="Zan Savage":MAILTO:zanart@gmail.com
END:VEVENT
BEGIN:VEVENT
DTSTART;TZID=America/Chicago:20260509T093000
DTEND;TZID=America/Chicago:20260509T123000
DTSTAMP:20260425T084651
CREATED:20260417T015900Z
LAST-MODIFIED:20260417T020023Z
UID:18395-1778319000-1778329800@zanartclasses.com
SUMMARY:Alcohol Ink Flower Field
DESCRIPTION:Join us to explore this fast drying\, vibrant\, transparent medium with many exciting applications! \n\n\n\nToday I’ll show you how to lift and deposit alcohol inks to create a field of flowers and use an acrylic marker for further definition if desired!  There will be lots of room to satisfy your inner artist with this one!😊\n\n\n\nThis class is offered at Thomas Place as part of the Community Outreach Program for The City of Fort Worth and requires sign up through them. \nIn a nutshell\, if you wish to take one class at a time (this class is $35 + supplies & a nominal membership fee) you will sign up there the day of class or you may sign up for the entire month at a discount online (or at the Community Center). You can learn more about how & full pricing by contacting the team there at  817-392-7427 or stopping by. You may also contact me  or sign up for my newsletter which will also have all the info you will need! \nHowever you elect to sign up\, I would appreciate at least a 24hr head’s up that you will be attending which you may do through my contact link here or in response to the newsletter email… \nDon’t forget\, if this is your first class with me\, your supplies are FREE!  Be sure to let me know so I can have them prepared!
URL:https://zanartclasses.com/calendar/alcohol-ink-flower-field/
LOCATION:Thomas Place\, 4237 Lafayette Avenue\, Fort Worth\, TX\, 76107\, United States
CATEGORIES:Alcohol Ink
ATTACH;FMTTYPE=image/jpeg:https://zanartclasses.com/wp-content/uploads/2021/08/Flower-Field-alcohol-ink-©-Zan-Savage.jpg
ORGANIZER;CN="Zan Savage":MAILTO:zanart@gmail.com
END:VEVENT
BEGIN:VEVENT
DTSTART;TZID=America/Chicago:20260513T093000
DTEND;TZID=America/Chicago:20260513T123000
DTSTAMP:20260425T084651
CREATED:20260417T021852Z
LAST-MODIFIED:20260417T022653Z
UID:18399-1778664600-1778675400@zanartclasses.com
SUMMARY:Soft Pastel Colorado Sunset
DESCRIPTION:Discover the unique joys of this powdery medium. It is considered both a drawing and a painting process and is extremely versatile!\n\nToday we will use soft pastels to create the soothing ‘Colorado Sunset’\, a lesson inspired from a stunning photo my Mom took from the view out her window a couple of years ago.   😊\n  \n\n\n\nThis class is offered at Thomas Place as part of the Community Outreach Program for The City of Fort Worth and requires sign up through them. \nIn a nutshell\, if you wish to take one class at a time (this class is $35 + supplies & a nominal annual membership fee) you will sign up there the day of class or you may sign up for the entire month at a discount online (or at the Rec Center). You can learn more about how & full pricing by contacting the team there at  817-392-7427 or stopping by. You may also contact me  or sign up for my newsletter which will also have all the info you will need! \nHowever you elect to sign up\, I would appreciate at least a 24hr head’s up that you will be attending which you may do through my contact link here or in response to the newsletter email… \nDon’t forget\, if this is your first class with me\, your supplies are FREE!  Be sure to let me know so I can have them prepared!
URL:https://zanartclasses.com/calendar/soft-pastel-colorado-sunset/
LOCATION:Thomas Place\, 4237 Lafayette Avenue\, Fort Worth\, TX\, 76107\, United States
CATEGORIES:Pastel
ATTACH;FMTTYPE=image/jpeg:https://zanartclasses.com/wp-content/uploads/2017/12/Colorado-Sunset-pastel-9x12-pastel.jpg
ORGANIZER;CN="Zan Savage":MAILTO:zanart@gmail.com
END:VEVENT
BEGIN:VEVENT
DTSTART;TZID=America/Chicago:20260515T130000
DTEND;TZID=America/Chicago:20260515T160000
DTSTAMP:20260425T084651
CREATED:20260417T023120Z
LAST-MODIFIED:20260421T004704Z
UID:18403-1778850000-1778860800@zanartclasses.com
SUMMARY:Unleash Your Inner Artist with Serendipitous Techniques Soft Pastels Blue Sky City
DESCRIPTION: \n\n\n\n\n\n\n\n\nDiscover the unique joys of this powdery medium. It is considered both a drawing and a painting medium and is extremely versatile \n\n\n\n\n\n\n\n\n\n\n\nToday we will use soft pastels to capture an abstract sky and cityscape inspired by a  stunning photo by Marianna Bond!\n\n\n\n\n\n\n\n\n\n\n\nAs is often the case in Zan’s classes\, emphasis will be on technique with encouragement to play with colors and forms if desired.\nGeared toward the beginner and experienced painter alike\, you will walk away empowered and excited to apply what you’ve learned!  Zan believes that the chance results that occur when using serendipitous techniques fosters increased creativity and an intimate connection with whatever medium one is working with. Hence\, it is one of her favorite ways to connect herself and her students to their inner artist and it’s FUN too!!\n \n\nSign up here – supplies are provided!\n\n\n\n\n\n\n\n\n\n\n 
URL:https://zanartclasses.com/calendar/unleash-your-inner-artist-with-serendipitous-techniques-soft-pastels-blue-sky-city/
LOCATION:House of Neville\, 2409 Neville Street\, Fort Worth\, TX\, 76107\, United States
CATEGORIES:Pastel
ATTACH;FMTTYPE=image/jpeg:https://zanartclasses.com/wp-content/uploads/2017/12/Blue-Cloud-City-9x12-pastel.jpg
ORGANIZER;CN="Zan Savage":MAILTO:zanart@gmail.com
END:VEVENT
BEGIN:VEVENT
DTSTART;TZID=America/Chicago:20260520T093000
DTEND;TZID=America/Chicago:20260520T133000
DTSTAMP:20260425T084651
CREATED:20260420T235536Z
LAST-MODIFIED:20260420T235755Z
UID:18428-1779269400-1779283800@zanartclasses.com
SUMMARY:4hr Open Studio
DESCRIPTION:  \n\n\n\nHave a project you need help with? Whether acrylic\, oil\, watercolor\, pastels\, drawing\, mixed media\, sculpture or more – I’d love to help guide you in your creations.  \nThis would also be a great time to enhance a Flow painting or perhaps pour another!  \n\n\n\nDon’t forget\, if you are working on something that we did in class and want assistance it helps me to know what so I can bring my note😉\n\n\n\n\n\n\n\nThis class is offered at Thomas Place as part of the Community Outreach Program for The City of Fort Worth and requires sign up through them. \nIn a nutshell\, if you wish to take one class at a time (this class is $35 + supplies & a nominal annual membership fee) you will sign up there the day of class or you may sign up for the entire month at a discount online (or at the Rec Center). You can learn more about how & full pricing by contacting the team there at  817-392-7427 or stopping by. You may also contact me  or sign up for my newsletter which will also have all the info you will need! \nHowever you elect to sign up\, I would appreciate at least a 24hr head’s up that you will be attending which you may do through my contact link here or in response to the newsletter email… \nDon’t forget\, if this is your first class with me\, your supplies are FREE!  Be sure to let me know so I can have them prepared!
URL:https://zanartclasses.com/calendar/4hr-open-studio/
LOCATION:Thomas Place\, 4237 Lafayette Avenue\, Fort Worth\, TX\, 76107\, United States
CATEGORIES:Open Studio
ATTACH;FMTTYPE=image/jpeg:https://zanartclasses.com/wp-content/uploads/2025/05/Open-Studio-square.jpg
ORGANIZER;CN="Zan Savage":MAILTO:zanart@gmail.com
END:VEVENT
BEGIN:VEVENT
DTSTART;TZID=America/Chicago:20260522T130000
DTEND;TZID=America/Chicago:20260522T160000
DTSTAMP:20260425T084651
CREATED:20260421T000310Z
LAST-MODIFIED:20260421T001110Z
UID:18430-1779454800-1779465600@zanartclasses.com
SUMMARY:Unleash Your Inner Artist with Serendipitous Techniques Blind Contour Technique
DESCRIPTION: \n\n\n\n\n\n\n\n\n There are so many things we can do in a drawing session – one very important goal is to learn how to draw what we truly see and not what we think we see! \n This session we will learn about contours and engaging the right side of the brain using blind contour drawing techniques in pursuit of learning how to draw what is really there. I love this exercise – it with strengthen your ability to really see your subject\, develop hand eye coordination and improve focus and concentration!😊 \n\n\n\n\n\n\n\n\nAs is often the case in Zan’s classes\, emphasis will be on technique with encouragement to play with colors and forms if desired.\nGeared toward the beginner and experienced painter alike\, you will walk away empowered and excited to apply what you’ve learned!  Zan believes that the chance results that occur when using serendipitous techniques fosters increased creativity and an intimate connection with whatever medium one is working with. Hence\, it is one of her favorite ways to connect herself and her students to their inner artist and it’s FUN too!!\n \n\nSign up here – supplies are provided!\n\n\n\n\n\n\n\n\n\n\n 
URL:https://zanartclasses.com/calendar/unleash-your-inner-artist-with-serendipitous-techniques-blind-contour-technique/
LOCATION:House of Neville\, 2409 Neville Street\, Fort Worth\, TX\, 76107\, United States
CATEGORIES:Drawing
ATTACH;FMTTYPE=image/png:https://zanartclasses.com/wp-content/uploads/2026/02/Blind-contour-technique-collage.png
ORGANIZER;CN="Zan Savage":MAILTO:zanart@gmail.com
END:VEVENT
BEGIN:VEVENT
DTSTART;TZID=America/Chicago:20260523T093000
DTEND;TZID=America/Chicago:20260523T123000
DTSTAMP:20260425T084651
CREATED:20260421T001435Z
LAST-MODIFIED:20260421T001654Z
UID:18434-1779528600-1779539400@zanartclasses.com
SUMMARY:Acrylic Easy Abstract Sail Away
DESCRIPTION:Explore the unique joys of working with acrylics – one of the most versatile and forgiving mediums of them all.\n\n\n\n  \nToday we will use palette knives to create ‘Sail Away’ a painting from the Easy Abstract Series Waterfront Series. There will be lots of room to indulge your inner artist with this technique😊\n\n\n\nThis class is offered at Thomas Place as part of the Community Outreach Program for The City of Fort Worth and requires sign up through them. \nIn a nutshell\, if you wish to take one class at a time (this class is $35 + supplies & a nominal annual membership fee) you will sign up there the day of class or you may sign up for the entire month at a discount online (or at the Rec Center). You can learn more about how & full pricing by contacting the team there at  817-392-7427 or stopping by. You may also contact me  or sign up for my newsletter which will also have all the info you will need! \nHowever you elect to sign up\, I would appreciate at least a 24hr head’s up that you will be attending which you may do through my contact link here or in response to the newsletter email… \nDon’t forget\, if this is your first class with me\, your supplies are FREE!  Be sure to let me know so I can have them prepared!
URL:https://zanartclasses.com/calendar/acrylic-easy-abstract-sail-away-2/
LOCATION:Thomas Place\, 4237 Lafayette Avenue\, Fort Worth\, TX\, 76107\, United States
CATEGORIES:Acrylic Painting
ATTACH;FMTTYPE=image/jpeg:https://zanartclasses.com/wp-content/uploads/2018/06/Easy-Abstract-Sail-Away-11x14-acrylic-©-Zan-Savage.jpg
ORGANIZER;CN="Zan Savage":MAILTO:zanart@gmail.com
END:VEVENT
BEGIN:VEVENT
DTSTART;TZID=America/Chicago:20260527T093000
DTEND;TZID=America/Chicago:20260527T123000
DTSTAMP:20260425T084651
CREATED:20260421T002906Z
LAST-MODIFIED:20260421T003142Z
UID:18440-1779874200-1779885000@zanartclasses.com
SUMMARY:Acrylic Sunset Over Mountain Lake
DESCRIPTION:Explore the unique joys of working with acrylics – one of the most versatile and forgiving mediums of them all.\n\n\n\n  \nI was immediately drawn by the striking colors and gorgeous skies of inspiration photos I used to create ‘Sunset Over Mountain Lake’. We’ll work color into gesso and blend with a soft brush before fine tuning. You may even decide you’d rather do a cityscape or forest for your horizon silhouette – of course I’ll show you how!😊\n\n\n\nThis class is offered at Thomas Place as part of the Community Outreach Program for The City of Fort Worth and requires sign up through them. \nIn a nutshell\, if you wish to take one class at a time (this class is $35 + supplies & a nominal annual membership fee) you will sign up there the day of class or you may sign up for the entire month at a discount online (or at the Rec Center). You can learn more about how & full pricing by contacting the team there at  817-392-7427 or stopping by. You may also contact me  or sign up for my newsletter which will also have all the info you will need! \nHowever you elect to sign up\, I would appreciate at least a 24hr head’s up that you will be attending which you may do through my contact link here or in response to the newsletter email… \nDon’t forget\, if this is your first class with me\, your supplies are FREE!  Be sure to let me know so I can have them prepared!
URL:https://zanartclasses.com/calendar/acrylic-sunset-over-mountain-lake-4/
LOCATION:Thomas Place\, 4237 Lafayette Avenue\, Fort Worth\, TX\, 76107\, United States
CATEGORIES:Acrylic Painting
ATTACH;FMTTYPE=image/jpeg:https://zanartclasses.com/wp-content/uploads/2023/12/Sunset-Over-Mountain-Lake-10x10-acrylic-©Zan.jpg
ORGANIZER;CN="Zan Savage":MAILTO:zanart@gmail.com
END:VEVENT
BEGIN:VEVENT
DTSTART;TZID=America/Chicago:20260529T130000
DTEND;TZID=America/Chicago:20260529T160000
DTSTAMP:20260425T084651
CREATED:20260421T003609Z
LAST-MODIFIED:20260421T003939Z
UID:18442-1780059600-1780070400@zanartclasses.com
SUMMARY:Unleash Your Inner Artist with Serendipitous Techniques Abstract Twirl Roses
DESCRIPTION: \n\n\n\n\n\n\n\nExplore the unique joys of working with acrylics–one of the most versatile and forgiving mediums of them all!\n\n\n\nToday I will show you an easy abstract application to create Roses using a fun twirling technique! There is a lot of serendipitous action in this one – we’ll use a silicone plating tool ​along with our brushes to capture their essence. It will be very easy to play with color in this one! \n\n\n\nAs is often the case in Zan’s classes\, emphasis will be on technique with encouragement to play with colors and forms if desired.\nGeared toward the beginner and experienced painter alike\, you will walk away empowered and excited to apply what you’ve learned!  Zan believes that the chance results that occur when using serendipitous techniques fosters increased creativity and an intimate connection with whatever medium one is working with. Hence\, it is one of her favorite ways to connect herself and her students to their inner artist and it’s FUN too!!\n \n\nSign up here – supplies are provided!\n\n\n\n\n\n\n\n\n\n\n 
URL:https://zanartclasses.com/calendar/unleash-your-inner-artist-with-serendipitous-techniques-abstract-twirl-roses/
LOCATION:House of Neville\, 2409 Neville Street\, Fort Worth\, TX\, 76107\, United States
CATEGORIES:Acrylic Painting
ATTACH;FMTTYPE=image/jpeg:https://zanartclasses.com/wp-content/uploads/2022/07/Abstract-Roses-cropped-10x10-©Zan-Savage.jpg
ORGANIZER;CN="Zan Savage":MAILTO:zanart@gmail.com
END:VEVENT
BEGIN:VEVENT
DTSTART;TZID=America/Chicago:20260530T093000
DTEND;TZID=America/Chicago:20260530T123000
DTSTAMP:20260425T084651
CREATED:20260421T004155Z
LAST-MODIFIED:20260421T004338Z
UID:18444-1780133400-1780144200@zanartclasses.com
SUMMARY:Acrylic Sand Dunes
DESCRIPTION:Explore the unique joys of working with acrylics – one of the most versatile and forgiving mediums of them all.\n\n\n\n  \nToday we’ll paint ‘Sand Dunes’  a peaceful beach scene with distant seagulls and awesome sand dunes from an old  favorite – time to paint it again! 😊\n\n\n\nThis class is offered at Thomas Place as part of the Community Outreach Program for The City of Fort Worth and requires sign up through them. \nIn a nutshell\, if you wish to take one class at a time (this class is $35 + supplies & a nominal annual membership fee) you will sign up there the day of class or you may sign up for the entire month at a discount online (or at the Rec Center). You can learn more about how & full pricing by contacting the team there at  817-392-7427 or stopping by. You may also contact me  or sign up for my newsletter which will also have all the info you will need! \nHowever you elect to sign up\, I would appreciate at least a 24hr head’s up that you will be attending which you may do through my contact link here or in response to the newsletter email… \nDon’t forget\, if this is your first class with me\, your supplies are FREE!  Be sure to let me know so I can have them prepared!
URL:https://zanartclasses.com/calendar/acrylic-sand-dunes/
LOCATION:Thomas Place\, 4237 Lafayette Avenue\, Fort Worth\, TX\, 76107\, United States
CATEGORIES:Acrylic Painting
ATTACH;FMTTYPE=image/jpeg:https://zanartclasses.com/wp-content/uploads/2022/12/Sand-Dunes-9x12-acrylic-by-Zan_edited.jpg
ORGANIZER;CN="Zan Savage":MAILTO:zanart@gmail.com
END:VEVENT
END:VCALENDAR